BEGIN:VCALENDAR
VERSION:2.0
PRODID:-//wp-events-plugin.com//7.2.3.1//EN
TZID:America/Detroit
X-WR-TIMEZONE:America/Detroit
BEGIN:VEVENT
UID:92525@annarborwithkids.com
DTSTART;TZID=America/Detroit:20260322T100000
DTEND;TZID=America/Detroit:20260322T160000
DTSTAMP:20260211T210641Z
URL:https://annarborwithkids.com/events/fool-u-luminary-workshops-2026-03-
 01-2026-03-08-2026-03-15-2026-03-22/
SUMMARY:Fool U! FoolMoon Luminary Making Workshops
DESCRIPTION:\nAll are invited to make their very own illuminated sculpture 
 to bring to FoolMoon on April 10th 2026!\n\n\n\nt’s a bird! It's a plane
 ! It's a Fool with wings! FoolMoon returns to downtown Ann Arbor with lig
 ht-filled art\, street dancing\, and Foolish fun! This year's theme\, "Foo
 ls of a Feather"\, will invite winged creatures of all kinds to light up A
 nn Arbor’s streets!\n\n\n\nLuminary Making Workshops will be held at Hat
 haway's Hideaway every Sunday in March. Join our FREE workshops to create 
 your very own illuminated sculpture to bring to FoolMoon!&nbsp\;\n\n\n\nSp
 ace limited\; prior registration required for this free workshop: https:/
 /www.signupgenius.com/go/10C0B4FADA823A0F8C43-57627801-fool#/\n\n\n\nDon't
  forget to bring your luminary sculpture to FoolMoon on April 10th!\n\n\n\
 n\n\nAll FestiFools Events\n\n\n\nCheck out some of the public events to m
 ake puppets for FestiFools\n\n\n\n[events_list tag="FestiFools" scope="202
 6-02-20\,2026-04-15"][/events_list]\n\n\n
CATEGORIES:Advance Registration,Arbor Annie's
 Highlights,Crafts,Elementary,Free,High Schoolers,Indoor Activities,Middle
 Schoolers,Parents,Registration Required
LOCATION:Hathaway's Hideaway\, 310 S Ashley St\, Ann Arbor\, Michigan\, 481
 04\, United States
GEO:42.279257;-83.750086
X-APPLE-STRUCTURED-LOCATION;VALUE=URI;X-ADDRESS=310 S Ashley St\, Ann Arbor
 \, Michigan\, 48104\, United States;X-APPLE-RADIUS=100;X-TITLE=Hathaway's 
 Hideaway:geo:42.279257,-83.750086
END:VEVENT
BEGIN:VTIMEZONE
TZID:America/Detroit
X-LIC-LOCATION:America/Detroit
BEGIN:DAYLIGHT
DTSTART:20260308T030000
TZOFFSETFROM:-0500
TZOFFSETTO:-0400
TZNAME:EDT
END:DAYLIGHT
END:VTIMEZONE
END:VCALENDAR