BEGIN:VCALENDAR
VERSION:2.0
PRODID:-//wp-events-plugin.com//7.2.3.1//EN
TZID:America/Detroit
X-WR-TIMEZONE:America/Detroit
BEGIN:VEVENT
UID:76641@annarborwithkids.com
DTSTART;TZID=America/Detroit:20240119T170000
DTEND;TZID=America/Detroit:20240119T170000
DTSTAMP:20240119T170223Z
URL:https://annarborwithkids.com/events/fish-in-the-sea-2/
SUMMARY:Fish in the Sea
DESCRIPTION:\nSkyline HS Theatre presents an original one act play Fish in 
 the Sea written and directed by students Benji Davidoff and Svea von der L
 ieth.\n\n\n\nThis hilarious comedy follows 24 year-old bachelor Daniel Lur
 in as he drowns himself in outlandish dates to distract himself from a rec
 ent breakup.\n\n\n\nThe show will be in the Experimental Theatre instead o
 f the main theatre.\n\n\n\nThere are three shows - Thursday January 18 at 
 7p\, and Friday\, January 19 at 5p &amp\; 7p\n\n\n
CATEGORIES:Advance Registration,Arbor Annie's Highlights,High
 Schoolers,Indoor Activities,Parents,Theater
LOCATION:Skyline High School\, 2552 N. Maple\, Ann Arbor\, Michigan\, 48103
 \, West Ann Arbor\, United States
GEO:42.30482;-83.77894320000001
X-APPLE-STRUCTURED-LOCATION;VALUE=URI;X-ADDRESS=2552 N. Maple\, Ann Arbor\,
  Michigan\, 48103\, West Ann Arbor\, United States;X-APPLE-RADIUS=100;X-TI
 TLE=Skyline High School:geo:42.30482,-83.77894320000001
END:VEVENT
BEGIN:VTIMEZONE
TZID:America/Detroit
X-LIC-LOCATION:America/Detroit
BEGIN:STANDARD
DTSTART:20231105T010000
TZOFFSETFROM:-0400
TZOFFSETTO:-0500
TZNAME:EST
END:STANDARD
END:VTIMEZONE
END:VCALENDAR