BEGIN:VCALENDAR
VERSION:2.0
PRODID:-//wp-events-plugin.com//7.2.3.1//EN
TZID:America/Detroit
X-WR-TIMEZONE:America/Detroit
BEGIN:VEVENT
UID:93439@annarborwithkids.com
DTSTART;TZID=America/Detroit:20261002T160000
DTEND;TZID=America/Detroit:20261002T220000
DTSTAMP:20260401T183115Z
URL:https://annarborwithkids.com/events/first-friday-ypsilanti-3-2026-10-0
 2/
SUMMARY:First Friday Ypsilanti
DESCRIPTION:\nMake your plans to attend First Friday Ypsilanti. Each month 
 from April through December\, Ypsilanti celebrates with special activities
  and sales along Michigan Ave and in Depot Town. Bring the family out and 
 enjoy the entertainment\, activities\, and community.\n\n\n\nParticipating
 &nbsp\;hours may vary by venue.\n\n\n\nThe 2026 Schedule is:\n\n\n\n\nApri
 l 3 - Art is Everywhere\n\n\n\nMay 1 - Ypsi in Bloom\n\n\n\nJune 5 - Rainb
 ow Ypsi\n\n\n\nJuly 3 - We the People of Ypsilanti\n\n\n\nAugust 7 - Food 
 Fest\n\n\n\nSeptember 4 - Festival of the Pollinators\n\n\n\nOctober 2 - Y
 psi-Ween\n\n\n\nNovember 6 - Local Legends &amp\; Lore\n\n\n\nDecember 4- 
 Water Tower Wonderland\n\n\n\n\nCheck out their interactive map for more d
 etails each month. \n\n\n\nMost months there will be family friendly activ
 ities at:\n\n\n\n\nYours Truly Events Venue\n\n\n\nPutt-R-Round Mini Golf\
 n\n\n\nYpsilanti District Library - Michigan Ave Branch.\n\n\n\n\n\n\n\n\n
 \n
CATEGORIES:Babies,Elementary,Free,High Schoolers,Middle
 Schoolers,Music/Concerts,Parents,Preschoolers,Shopping,Toddler
LOCATION:Downtown Ypsilanti\, 1 Huron St\, Ypsilanti\, Michigan\, 48197\, Y
 psilanti\, United States
GEO:42.2407765;-83.61284969999997
X-APPLE-STRUCTURED-LOCATION;VALUE=URI;X-ADDRESS=1 Huron St\, Ypsilanti\, Mi
 chigan\, 48197\, Ypsilanti\, United States;X-APPLE-RADIUS=100;X-TITLE=Down
 town Ypsilanti:geo:42.2407765,-83.61284969999997
END:VEVENT
BEGIN:VTIMEZONE
TZID:America/Detroit
X-LIC-LOCATION:America/Detroit
BEGIN:DAYLIGHT
DTSTART:20260308T030000
TZOFFSETFROM:-0500
TZOFFSETTO:-0400
TZNAME:EDT
END:DAYLIGHT
END:VTIMEZONE
END:VCALENDAR