BEGIN:VCALENDAR
VERSION:2.0
PRODID:-//wp-events-plugin.com//7.2.3.1//EN
TZID:America/Detroit
X-WR-TIMEZONE:America/Detroit
BEGIN:VEVENT
UID:78685@annarborwithkids.com
DTSTART;TZID=America/Detroit:20240629T150000
DTEND;TZID=America/Detroit:20240629T230000
DTSTAMP:20240613T181514Z
URL:https://annarborwithkids.com/events/fireworks-on-the-farm/
SUMMARY:Fireworks on the Farm
DESCRIPTION:\nRobin Hills Farm in Chelsea has a family-fun filled day plann
 ed that culminates in a fireworks show! \n\n\n\nThere will be a KidZone\, 
 agricultural presentations\, and musical performances (check the schedule 
 below. \n\n\n\n\n3p - KidZone\, The Nest\, and food trucks open\n\n\n\n4:3
 0p - Agricultural presentation from Hay Creek Heritage Farms in The Pastur
 e Barn\n\n\n\n5p - Ann Arbor Civic Band performance at The Amphitheater\n\
 n\n\n6p - Agricultural presentation from Prospect Hill Farm in The Pasture
  Barn\n\n\n\n6:30p - Depot Town Big Band performance at The Amphitheater\n
 \n\n\n7:30p - Agricultural presentation from Full Flower Farm in The Pastu
 re Barn\n\n\n\n8p - Ann Arbor Civic Band performance at The Amphitheater\n
 \n\n\n~10:15p - Fireworks start at dark\n\n\n\n11p - Event ends\n\n\n\nmid
 night - Gates close\n\n\n\n\nThroughout the day there will also be bocce b
 all\, cornhole\, and food and beverage stations throughout the day. Bring 
 your own lawn chairs and blankets (but no outside food allowed).\n\n\n\nAd
 mission is FREE. Onsite parking is $20/car. There will be a free WAVE shut
 tle to and from the Gestamp parking lot (5800 Sibley Rd\, Chelsea) which i
 s offering free parking.\n\n\n\nRain date: Sunday\, June 30.\n\n\n\nWhile 
 the event is free\, they are asking for donations to support the fireworks
  and the Chelsea Rotary Scholarship Fund for Chelsea High School Students.
 .\n\n\n
CATEGORIES:Arbor Annie's
 Highlights,Elementary,Fireworks,Food,Free,Games,High
 Schoolers,Independence Day,Middle
 Schoolers,Music/Concerts,Outdoor,Parents,Preschoolers,Toddler
LOCATION:Robin Hills Farm\, 20390 Michigan 52\, Chelsea\, Michigan\, 48118\
 , Chelsea\, United States
GEO:42.3354711;-84.02710830000001
X-APPLE-STRUCTURED-LOCATION;VALUE=URI;X-ADDRESS=20390 Michigan 52\, Chelsea
 \, Michigan\, 48118\, Chelsea\, United States;X-APPLE-RADIUS=100;X-TITLE=R
 obin Hills Farm:geo:42.3354711,-84.02710830000001
END:VEVENT
BEGIN:VTIMEZONE
TZID:America/Detroit
X-LIC-LOCATION:America/Detroit
BEGIN:DAYLIGHT
DTSTART:20240310T030000
TZOFFSETFROM:-0500
TZOFFSETTO:-0400
TZNAME:EDT
END:DAYLIGHT
END:VTIMEZONE
END:VCALENDAR