BEGIN:VCALENDAR
VERSION:2.0
PRODID:-//wp-events-plugin.com//7.2.3.1//EN
TZID:America/Detroit
X-WR-TIMEZONE:America/Detroit
BEGIN:VEVENT
UID:65123@annarborwithkids.com
DTSTART;TZID=America/Detroit:20250629T180000
DTEND;TZID=America/Detroit:20250629T224500
DTSTAMP:20250609T161412Z
URL:https://annarborwithkids.com/events/fireworks-3/
SUMMARY:Willow Metropark Fireworks
DESCRIPTION:\nWillow Metroparks fireworks will be held at 10p. Come early t
 o get your space and enjoy fun pre-show activities. There will be live mus
 ic starting at 6p.\n\n\n\nVehicle Admission for those without a Huron-Clin
 ton MetroPark annual pass is $10. Annual passes are available for $40\n\n\
 n\n\n\n\n
CATEGORIES:Arbor Annie's Highlights,Elementary,Fireworks,Free,High
 Schoolers,Independence Day,Middle Schoolers,Parents,Preschoolers
LOCATION:Willow Metropark\, 23200 S Huron Rd\, New Boston\, Michigan\, 4813
 4\, United States
GEO:42.136901;-83.374922
X-APPLE-STRUCTURED-LOCATION;VALUE=URI;X-ADDRESS=23200 S Huron Rd\, New Bost
 on\, Michigan\, 48134\, United States;X-APPLE-RADIUS=100;X-TITLE=Willow Me
 tropark:geo:42.136901,-83.374922
END:VEVENT
BEGIN:VTIMEZONE
TZID:America/Detroit
X-LIC-LOCATION:America/Detroit
BEGIN:DAYLIGHT
DTSTART:20250309T030000
TZOFFSETFROM:-0500
TZOFFSETTO:-0400
TZNAME:EDT
END:DAYLIGHT
END:VTIMEZONE
END:VCALENDAR