BEGIN:VCALENDAR
VERSION:2.0
PRODID:-//wp-events-plugin.com//7.2.3.1//EN
TZID:America/Detroit
X-WR-TIMEZONE:America/Detroit
BEGIN:VEVENT
UID:18384@annarborwithkids.com
DTSTART;TZID=America/Detroit:20190702T190000
DTEND;TZID=America/Detroit:20190702T230000
DTSTAMP:20230713T034545Z
URL:https://annarborwithkids.com/events/fireworks-2/
SUMMARY:Fireworks
DESCRIPTION:\nHudson Mills is not having fireworks in 2023. However\, there
  will be fireworks at Kensington Metropark\, Willow Metropark\, and Lake E
 rie Metropark.\n\n\n\nCheck out other fireworks in the Ann Arbor area.\n\n
 \n
CATEGORIES:Arbor Annie's Highlights,Elementary,Fireworks,High
 Schoolers,Independence Day,Middle Schoolers,Parents,Preschoolers
LOCATION:Hudson Mills Metropark\, 8801 N. Territorial Rd\, Dexter\, Michiga
 n\, 48130\, Dexter\, United States
GEO:42.3866538;-83.9086605
X-APPLE-STRUCTURED-LOCATION;VALUE=URI;X-ADDRESS=8801 N. Territorial Rd\, De
 xter\, Michigan\, 48130\, Dexter\, United States;X-APPLE-RADIUS=100;X-TITL
 E=Hudson Mills Metropark:geo:42.3866538,-83.9086605
END:VEVENT
BEGIN:VTIMEZONE
TZID:America/Detroit
X-LIC-LOCATION:America/Detroit
BEGIN:DAYLIGHT
DTSTART:20190310T030000
TZOFFSETFROM:-0500
TZOFFSETTO:-0400
TZNAME:EDT
END:DAYLIGHT
END:VTIMEZONE
END:VCALENDAR