BEGIN:VCALENDAR
VERSION:2.0
PRODID:-//wp-events-plugin.com//7.2.3.1//EN
TZID:America/Detroit
X-WR-TIMEZONE:America/Detroit
BEGIN:VEVENT
UID:59854@annarborwithkids.com
DTSTART;TZID=America/Detroit:20250628T220000
DTEND;TZID=America/Detroit:20250628T223000
DTSTAMP:20250609T161602Z
URL:https://annarborwithkids.com/events/fireworks-2-2/
SUMMARY:Kensington Metropark Fireworks
DESCRIPTION:\nKensington fireworks will be held at 10:10p. Come early to ge
 t your space and enjoy fun pre-show activities.\n\n\n\nVehicle Admission f
 or those without a Huron-Clinton MetroPark annual pass is $10. Annual pass
 es are available for $40.\n\n\n\n\n\n\n
CATEGORIES:Arbor Annie's Highlights,Elementary,Fireworks,High
 Schoolers,Independence Day,Middle Schoolers,Parents,Preschoolers
LOCATION:Kensington Metropark Nature Center\, 4570 Huron River Parkway\, Mi
 lford\, Michigan\, 48380\, Milford\, United States
GEO:42.527705;-83.639002
X-APPLE-STRUCTURED-LOCATION;VALUE=URI;X-ADDRESS=4570 Huron River Parkway\, 
 Milford\, Michigan\, 48380\, Milford\, United States;X-APPLE-RADIUS=100;X-
 TITLE=Kensington Metropark Nature Center:geo:42.527705,-83.639002
END:VEVENT
BEGIN:VTIMEZONE
TZID:America/Detroit
X-LIC-LOCATION:America/Detroit
BEGIN:DAYLIGHT
DTSTART:20250309T030000
TZOFFSETFROM:-0500
TZOFFSETTO:-0400
TZNAME:EDT
END:DAYLIGHT
END:VTIMEZONE
END:VCALENDAR