BEGIN:VCALENDAR
VERSION:2.0
PRODID:-//wp-events-plugin.com//7.2.3.1//EN
TZID:America/Detroit
X-WR-TIMEZONE:America/Detroit
BEGIN:VEVENT
UID:50297@annarborwithkids.com
DTSTART;TZID=America/Detroit:20250704T103000
DTEND;TZID=America/Detroit:20250704T114500
DTSTAMP:20250617T184302Z
URL:https://annarborwithkids.com/events/firefighters-spray-park/
SUMMARY:Firefighter's Spray Park
DESCRIPTION:\nJoin the Ann Arbor Fire Department for a Spray Park after the
  Fourth of July Parade. Kids will get the chance to spray the firehouses o
 r run through the (low-pressure) streams.\n\n\n\nActivities include:\n\n\n
 \n\nSpray a real fire hose\n\n\n\nRun through the water streams and cool o
 ff\n\n\n\nFire equipment and apparatus on display\n\n\n\nMeet local firefi
 ghters\n\n\n\n\n\n\n\n\n\n\nThe Ann Arbor Fire Department started holding 
 a Firefighter's Spray Park in 2019 after the Jaycees Fourth of July Parade
 . \n\n\n\n\n\n\n\n\n\n\n
ATTACH;FMTTYPE=image/jpeg:https://annarborwithkids.com/wp-content/uploads/
 ann-arbor-firefighter-spray-park-4th-july.jpeg
CATEGORIES:Arbor Annie's Highlights,Elementary,Free,High
 Schoolers,Independence Day,Middle Schoolers,Parents,Preschoolers,Toddler
LOCATION:Maynard Parking Structure\, 324 Maynard St\, Ann Arbor\, Michigan\
 , 48104\, Downtown\, United States
GEO:42.2786739;-83.74225799999999
X-APPLE-STRUCTURED-LOCATION;VALUE=URI;X-ADDRESS=324 Maynard St\, Ann Arbor\
 , Michigan\, 48104\, Downtown\, United States;X-APPLE-RADIUS=100;X-TITLE=M
 aynard Parking Structure:geo:42.2786739,-83.74225799999999
END:VEVENT
BEGIN:VTIMEZONE
TZID:America/Detroit
X-LIC-LOCATION:America/Detroit
BEGIN:DAYLIGHT
DTSTART:20250309T030000
TZOFFSETFROM:-0500
TZOFFSETTO:-0400
TZNAME:EDT
END:DAYLIGHT
END:VTIMEZONE
END:VCALENDAR