BEGIN:VCALENDAR
VERSION:2.0
PRODID:-//wp-events-plugin.com//7.2.3.1//EN
TZID:America/Detroit
X-WR-TIMEZONE:America/Detroit
BEGIN:VEVENT
UID:37895@annarborwithkids.com
DTSTART;TZID=America/Detroit:20260704T080000
DTEND;TZID=America/Detroit:20260704T110000
DTSTAMP:20260326T155244Z
URL:https://annarborwithkids.com/events/firecracker-5k-fun-run/
SUMMARY:Firecracker 5K & Fun Run
DESCRIPTION:\nThe Firecracker 5K is run in Downtown Ann Arbor before the An
 n Arbor Jaycees Parade. \n\n\n\nThe Fourth of July Parade is shortly after
  the race (10a). Stick around after the race to watch the parade.\n\n\n\n\
 n\n\n\n\n\n\n\nThere are three race distances with a couple of special div
 isions for the 5K:\n\n\n\n\nFirecracker 5K - Run the race or join a specia
 l division\n\nRucking Division - Carry a weighted rucksack or backpack\n\n
 \n\nFlag Carrying Division \n\n\n\nHot Dog Eating Contest - eat 4 hot dogs
  in 76 seconds before starting your 5K.\n\n\n\n\n\nOne Mile \n\nFun Run\n\
 n\n\nFun Ruck - Carry a rucksack or backpack - no weigh in for this divisi
 on\n\n\n\n\n\nKids 200-Meter Dash (Ages 8 &amp\; under ) - Free with a pai
 d adult\, or $12-18 standalone\n\n\n\n\nRegistration costs vary based on r
 egistration date. Lowest cost is for the Kids 200M dash\, middle cost for 
 the 1 mile\, highest cost for the 5K.\n\n\n\n\nJan 1-March 31 - $12-$30-40
 \n\n\n\nApril 1-May 31 - $15-$35-45\n\n\n\nJune 1-June 30 - $16-$40-50\n\n
 \n\nJuly 1-4 - $18-$45-55\n\n\n\n\nKids 10 &amp\; under race free in the 1
  mile\, 5K with a paid adult.\n\n\n\n\n\n\n\n\n\n\n\n\n
CATEGORIES:Advance Registration,Arbor Annie's Highlights,Charitable
 Event,Elementary,High Schoolers,Independence Day,Middle
 Schoolers,Outdoor,Parents,Preschoolers,Race
LOCATION:Main Street Area\, Main Street and Liberty\, Ann Arbor \, MI\, 481
 04\, Downtown\, United States
GEO:42.2795761;-83.74859989999999
X-APPLE-STRUCTURED-LOCATION;VALUE=URI;X-ADDRESS=Main Street and Liberty\, A
 nn Arbor \, MI\, 48104\, Downtown\, United States;X-APPLE-RADIUS=100;X-TIT
 LE=Main Street Area:geo:42.2795761,-83.74859989999999
END:VEVENT
BEGIN:VTIMEZONE
TZID:America/Detroit
X-LIC-LOCATION:America/Detroit
BEGIN:DAYLIGHT
DTSTART:20260308T030000
TZOFFSETFROM:-0500
TZOFFSETTO:-0400
TZNAME:EDT
END:DAYLIGHT
END:VTIMEZONE
END:VCALENDAR