BEGIN:VCALENDAR
VERSION:2.0
PRODID:-//wp-events-plugin.com//7.2.3.1//EN
TZID:America/Detroit
X-WR-TIMEZONE:America/Detroit
BEGIN:VEVENT
UID:32972@annarborwithkids.com
DTSTART;TZID=America/Detroit:20240824T100000
DTEND;TZID=America/Detroit:20240824T140000
DTSTAMP:20240801T220834Z
URL:https://annarborwithkids.com/events/fire-truck-muster-2/
SUMMARY:Ypsilanti Firetruck Muster 2024: A Blaze of Excitement
DESCRIPTION:\nHead to Ypsilanti for the Fire Truck Muster 2024 for a blaze 
 of excitement! A collection of antique fire apparatus will be on display i
 n Riverside Park. There will be vintage fire trucks pumping water\, displa
 ys\, a hand pumper\, and kids activities.\n\n\n\nPast Kids activities have
  included\n\n\n\n\nPedal Cars\n\n\n\nHand Pumper\n\n\n\nBucket Brigade\n\n
 \n\n\n\n\nThe event is&nbsp\;organized by the Michigan Fire House Museum. 
 There will be free admission to the museum that day. At the museum you wil
 l be able to see antique fire truck displays and pumping equipment.\n\n\n\
 nAbout Riverside Park\n\n\n\n[wpv-view name="linked-playground"]\n\n\n\nAb
 out Michigan Firehouse Museum\n\n\n\n[wpv-view name="event-linked-activity
 "]\n\n\n\n\n\nSee More Vehicles\n\n\n\nCheck out these details on where to
  see more vehicles in the Ann Arbor area.\n\n\n
CATEGORIES:Arbor Annie's Highlights,Car Show,Elementary,Free,High
 Schoolers,Middle Schoolers,Outdoor,Parents,Preschoolers,Public
 Safety,Toddler,Touch a Truck,Vehicles
LOCATION:Riverside Park\, 5 E. Cross St\, Ypsilanti\, Michigan\, 48197\, Yp
 silanti\, United States
GEO:42.2434749;-83.611287
X-APPLE-STRUCTURED-LOCATION;VALUE=URI;X-ADDRESS=5 E. Cross St\, Ypsilanti\,
  Michigan\, 48197\, Ypsilanti\, United States;X-APPLE-RADIUS=100;X-TITLE=R
 iverside Park:geo:42.2434749,-83.611287
END:VEVENT
BEGIN:VTIMEZONE
TZID:America/Detroit
X-LIC-LOCATION:America/Detroit
BEGIN:DAYLIGHT
DTSTART:20240310T030000
TZOFFSETFROM:-0500
TZOFFSETTO:-0400
TZNAME:EDT
END:DAYLIGHT
END:VTIMEZONE
END:VCALENDAR