BEGIN:VCALENDAR
VERSION:2.0
PRODID:-//wp-events-plugin.com//7.2.3.1//EN
TZID:America/Detroit
X-WR-TIMEZONE:America/Detroit
BEGIN:VEVENT
UID:28562@annarborwithkids.com
DTSTART;TZID=America/Detroit:20260412T160000
DTEND;TZID=America/Detroit:20260412T170000
DTSTAMP:20260211T205843Z
URL:https://annarborwithkids.com/events/festifools-3/
SUMMARY:FestiFools 2026: Back ot the Foolture
DESCRIPTION:\n20 years ago\, FestiFools exploded onto Ann Arbor’s Main St
 reet with enormous kinetic papier-mâché sculptures created by a joyous c
 ollaboration of students and community members. Time sure flies when you
 ’re having (Foolish) fun! \n\n\n\nCome help celebrate "Back to the FOOLt
 ure"\, where they'll reconstruct our past\, present\, and FOOLture with bi
 zarro\, street-sized Puppets created and animated by U-M students and comm
 unity members! Make a crazy costume\, bring an old pan to bang on\, or jus
 t come as you are\, to help celebrate the 20th Annual FestiFools Spectacle
  on Main Street in downtown Ann Arbor! This not-2-B-missed one-hour only e
 vent starts at 4pm sharp!\n\n\n\n\n\n\n\nVolunteers still wanted to help o
 ut at FestiFools and FoolMoon: https://www.signupgenius.com/go/10C0B4FADA
 823A0F8C43-58015387-festifools#/\n\n\n\nIf you want to help animate a pupp
 et or make some noise in the parade with the "Buckettes"\, meet them at th
 e Palio parking lot on the corner of Washington and William at 3pm on Apri
 l 12th! Sign up here so they know they can count on you: https://www.sign
 upgenius.com/go/10C0B4FADA823A0F8C43-58015387-festifools#/\n\n\n\nDonation
  Giving link: https://giving.umich.edu/basket/fund/386297\n\n\n\nFor more
  information on FestiFools &amp\; FoolMoon 2026\, visit Facebook at ‘Fes
 tiFools Studio’ : https://www.facebook.com/profile.php?id=6155205450252
 9\n\n\n\n\n\nAll FestiFools Events\n\n\n\nCheck out some of the public eve
 nts to make puppets for FestiFools\n\n\n\n[events_list tag="FestiFools" sc
 ope="2026-02-20\,2026-04-15"][/events_list]\n\n\n
ATTACH;FMTTYPE=image/jpeg:https://annarborwithkids.com/wp-content/uploads/
 ff-1.jpeg
CATEGORIES:Arbor Annie's Highlights,Babies,Crafts,Elementary,Free,High
 Schoolers,Middle Schoolers,Parade,Parents,Preschoolers,Toddler
LOCATION:Main Street Area\, Main Street and Liberty\, Ann Arbor \, MI\, 481
 04\, Downtown\, United States
GEO:42.2795761;-83.74859989999999
X-APPLE-STRUCTURED-LOCATION;VALUE=URI;X-ADDRESS=Main Street and Liberty\, A
 nn Arbor \, MI\, 48104\, Downtown\, United States;X-APPLE-RADIUS=100;X-TIT
 LE=Main Street Area:geo:42.2795761,-83.74859989999999
END:VEVENT
BEGIN:VTIMEZONE
TZID:America/Detroit
X-LIC-LOCATION:America/Detroit
BEGIN:DAYLIGHT
DTSTART:20260308T030000
TZOFFSETFROM:-0500
TZOFFSETTO:-0400
TZNAME:EDT
END:DAYLIGHT
END:VTIMEZONE
END:VCALENDAR