BEGIN:VCALENDAR
VERSION:2.0
PRODID:-//wp-events-plugin.com//7.2.3.1//EN
TZID:America/Detroit
X-WR-TIMEZONE:America/Detroit
BEGIN:VEVENT
UID:69458@annarborwithkids.com
DTSTART;TZID=America/Detroit:20260420T180000
DTEND;TZID=America/Detroit:20260420T193000
DTSTAMP:20260323T182646Z
URL:https://annarborwithkids.com/events/faux-stained-glass/
SUMMARY:Faux Stained Glass
DESCRIPTION:\nDesign a colorful pattern or use a pre-made design using mark
 ers on glass\, then add foil to create a gleaming and glinting stained-gla
 ss-like effect.\n\n\n\nFor teens &amp\; adults. Held in Lower Level Progra
 m Room.\n\n\n\n\n\n\n\n\n
CATEGORIES:Arbor Annie's Highlights,Crafts,Free,High Schoolers,Indoor
 Activities,Middle Schoolers,Parents
LOCATION:Downtown Branch of AADL\, 343 South Fifth Avenue\, Ann Arbor\, Mic
 higan\, 48104\, Downtown\, United States
GEO:42.278198;-83.745971
X-APPLE-STRUCTURED-LOCATION;VALUE=URI;X-ADDRESS=343 South Fifth Avenue\, An
 n Arbor\, Michigan\, 48104\, Downtown\, United States;X-APPLE-RADIUS=100;X
 -TITLE=Downtown Branch of AADL:geo:42.278198,-83.745971
END:VEVENT
BEGIN:VTIMEZONE
TZID:America/Detroit
X-LIC-LOCATION:America/Detroit
BEGIN:DAYLIGHT
DTSTART:20260308T030000
TZOFFSETFROM:-0500
TZOFFSETTO:-0400
TZNAME:EDT
END:DAYLIGHT
END:VTIMEZONE
END:VCALENDAR