BEGIN:VCALENDAR
VERSION:2.0
PRODID:-//wp-events-plugin.com//7.2.3.1//EN
TZID:America/Detroit
X-WR-TIMEZONE:America/Detroit
BEGIN:VEVENT
UID:93075@annarborwithkids.com
DTSTART;TZID=America/Detroit:20260327T170000
DTEND;TZID=America/Detroit:20260327T183000
DTSTAMP:20260312T201044Z
URL:https://annarborwithkids.com/events/family-trivia-night/
SUMMARY:Family Trivia Night
DESCRIPTION:\nLooking for a fun event for the whole family? Come to an A2 P
 arks family trivia night! Questions will range in difficulty from things y
 our kiddos will know to things that might be challenging for adult kids at
  heart! Come with your family or friends and connect at family trivia nigh
 t! \n\n\n\n\n
CATEGORIES:Advance Registration,Arbor Annie's
 Highlights,Elementary,Free,Games,High Schoolers,Indoor Activities,Middle
 Schoolers,Parents,Registration Required
LOCATION:Ann Arbor Senior Center\, 1320 Baldwin Avenue\, Ann Arbor\, Michig
 an\, 48104\, South\, United States
GEO:42.2650621;-83.7265878
X-APPLE-STRUCTURED-LOCATION;VALUE=URI;X-ADDRESS=1320 Baldwin Avenue\, Ann A
 rbor\, Michigan\, 48104\, South\, United States;X-APPLE-RADIUS=100;X-TITLE
 =Ann Arbor Senior Center:geo:42.2650621,-83.7265878
END:VEVENT
BEGIN:VTIMEZONE
TZID:America/Detroit
X-LIC-LOCATION:America/Detroit
BEGIN:DAYLIGHT
DTSTART:20260308T030000
TZOFFSETFROM:-0500
TZOFFSETTO:-0400
TZNAME:EDT
END:DAYLIGHT
END:VTIMEZONE
END:VCALENDAR