BEGIN:VCALENDAR
VERSION:2.0
PRODID:-//wp-events-plugin.com//7.2.3.1//EN
TZID:America/Detroit
X-WR-TIMEZONE:America/Detroit
BEGIN:VEVENT
UID:67203@annarborwithkids.com
DTSTART;TZID=America/Detroit:20251012T130000
DTEND;TZID=America/Detroit:20251012T160000
DTSTAMP:20251001T213316Z
URL:https://annarborwithkids.com/events/family-spooktacular-eek-stravaganz
 a/
SUMMARY:Spooktacular Eek-Stravaganza
DESCRIPTION:\nMilan Area Historical Society is holding their 5th Annual fam
 ily Spooktacular Eek-Stravaganza.\n\n\n\nActivities inlcude:\n\n\n\n\nPizz
 a\n\n\n\nDonuts\n\n\n\nHalloween Games\n\n\n\nPumpkin Painting\n\n\n\nTrai
 n Rides\n\n\n\nMuseum Tours\n\n\n\nPumpkin Patch\n\n\n\nand more!\n\n\n\n\
 nCostumes are encouraged for all.\n\n\n\n\n\n\n\n\n
CATEGORIES:Arbor Annie's Highlights,Elementary,Fall
 Fun,Food,Free,Games,Halloween,High Schoolers,Meal,Middle
 Schoolers,Outdoor,Parents,Preschoolers,Toddler
LOCATION:Hack House\, 775 County Street\, Milan\, Michigan\, 48160\, Milan\
 , United States
GEO:42.084636;-83.670705
X-APPLE-STRUCTURED-LOCATION;VALUE=URI;X-ADDRESS=775 County Street\, Milan\,
  Michigan\, 48160\, Milan\, United States;X-APPLE-RADIUS=100;X-TITLE=Hack 
 House:geo:42.084636,-83.670705
END:VEVENT
BEGIN:VTIMEZONE
TZID:America/Detroit
X-LIC-LOCATION:America/Detroit
BEGIN:DAYLIGHT
DTSTART:20250309T030000
TZOFFSETFROM:-0500
TZOFFSETTO:-0400
TZNAME:EDT
END:DAYLIGHT
END:VTIMEZONE
END:VCALENDAR