BEGIN:VCALENDAR
VERSION:2.0
PRODID:-//wp-events-plugin.com//7.2.3.1//EN
TZID:America/Detroit
X-WR-TIMEZONE:America/Detroit
BEGIN:VEVENT
UID:73160@annarborwithkids.com
DTSTART;TZID=America/Detroit:20260425T100000
DTEND;TZID=America/Detroit:20260425T120000
DTSTAMP:20260119T212349Z
URL:https://annarborwithkids.com/events/family-puzzle-tournament/
SUMMARY:Family Puzzle Tournament
DESCRIPTION:\nGet your puzzling on! Teams of up 5 will compete to see who c
 an put together a 500 piece puzzle first. Each team will have the same puz
 zle. Light snacks will be included. The winning team will win a prize and 
 everyone gets to take their puzzle home.\n\n\n\nPuzzle Swap: If you have a
 n old 500-1000 piece puzzle you've done before\, bring it to our puzzle sw
 ap! Please don't bring any puzzles with missing pieces.\n\n\n\n\n
CATEGORIES:Advance Registration,Arbor Annie's
 Highlights,Elementary,Games,High Schoolers,Indoor Activities,Middle
 Schoolers,Parents
LOCATION:Saline Rec Center\, 1866 Woodland Dr\, Saline\, MI\, 48176\, Salin
 e\, United States
GEO:42.195868;-83.76643200000001
X-APPLE-STRUCTURED-LOCATION;VALUE=URI;X-ADDRESS=1866 Woodland Dr\, Saline\,
  MI\, 48176\, Saline\, United States;X-APPLE-RADIUS=100;X-TITLE=Saline Rec
  Center:geo:42.195868,-83.76643200000001
END:VEVENT
BEGIN:VTIMEZONE
TZID:America/Detroit
X-LIC-LOCATION:America/Detroit
BEGIN:DAYLIGHT
DTSTART:20260308T030000
TZOFFSETFROM:-0500
TZOFFSETTO:-0400
TZNAME:EDT
END:DAYLIGHT
END:VTIMEZONE
END:VCALENDAR