BEGIN:VCALENDAR
VERSION:2.0
PRODID:-//wp-events-plugin.com//7.2.3.1//EN
TZID:America/Detroit
X-WR-TIMEZONE:America/Detroit
BEGIN:VEVENT
UID:60046@annarborwithkids.com
DTSTART;TZID=America/Detroit:20260420T190000
DTEND;TZID=America/Detroit:20260420T203000
DTSTAMP:20260323T205152Z
URL:https://annarborwithkids.com/events/family-maker-nights-2021-10-13/
SUMMARY:Family Maker Night: Sprout Jars
DESCRIPTION:\nSprouts are yummy and Cricuts are fascinating.  Design your 
 own simple label\, and watch YDL's Cricut cut the design into a permanent 
 vinyl sticker. Apply it to a mason jar\, and go home with a sprout lid and
  a small packet of sprout seeds. All supplies provided. Kids\, bring an ad
 ult to help you. \n\n\n\nFor families. Registration is required as space 
 is limited.\n\n\n
CATEGORIES:Advance Registration,Arbor Annie's
 Highlights,Christmas,Crafts,Elementary,Free,High Schoolers,Indoor
 Activities,Middle Schoolers,Parents,Preschoolers,Registration
 Required,STEM
LOCATION:Ypsilanti District Library - Michigan Ave Branch\, 229 West Michig
 an Avenue\, Ypsilanti\, Michigan\, 48197\, Ypsilanti\, United States
GEO:42.240746;-83.61565
X-APPLE-STRUCTURED-LOCATION;VALUE=URI;X-ADDRESS=229 West Michigan Avenue\, 
 Ypsilanti\, Michigan\, 48197\, Ypsilanti\, United States;X-APPLE-RADIUS=10
 0;X-TITLE=Ypsilanti District Library - Michigan Ave Branch:geo:42.240746,-
 83.61565
END:VEVENT
BEGIN:VTIMEZONE
TZID:America/Detroit
X-LIC-LOCATION:America/Detroit
BEGIN:DAYLIGHT
DTSTART:20260308T030000
TZOFFSETFROM:-0500
TZOFFSETTO:-0400
TZNAME:EDT
END:DAYLIGHT
END:VTIMEZONE
END:VCALENDAR