BEGIN:VCALENDAR
VERSION:2.0
PRODID:-//wp-events-plugin.com//7.2.3.1//EN
TZID:America/Detroit
X-WR-TIMEZONE:America/Detroit
BEGIN:VEVENT
UID:92617@annarborwithkids.com
DTSTART;TZID=America/Detroit:20260331T160000
DTEND;TZID=America/Detroit:20260331T173000
DTSTAMP:20260219T203822Z
URL:https://annarborwithkids.com/events/family-hustle-party-with-sherry-ha
 wkins/
SUMMARY:Family Hustle Party with Sherry Hawkins
DESCRIPTION:\nSherry Hawkins and her team from Dance With Elegance will tea
 ch a few line dances to get the entire family moving. \n\n\n\nFor ages 7+
 \n\n\n
CATEGORIES:Arbor Annie's Highlights,Dance,Elementary,Free,High
 Schoolers,Indoor Activities,Middle Schoolers,Parents
LOCATION:Ypsilanti District Library - Superior\, 1900 Harris Rd\, Ypsilanti
 \, Michigan\, 48198\, Ypsilanti\, United States
GEO:42.270591;-83.584503
X-APPLE-STRUCTURED-LOCATION;VALUE=URI;X-ADDRESS=1900 Harris Rd\, Ypsilanti\
 , Michigan\, 48198\, Ypsilanti\, United States;X-APPLE-RADIUS=100;X-TITLE=
 Ypsilanti District Library - Superior:geo:42.270591,-83.584503
END:VEVENT
BEGIN:VTIMEZONE
TZID:America/Detroit
X-LIC-LOCATION:America/Detroit
BEGIN:DAYLIGHT
DTSTART:20260308T030000
TZOFFSETFROM:-0500
TZOFFSETTO:-0400
TZNAME:EDT
END:DAYLIGHT
END:VTIMEZONE
END:VCALENDAR