BEGIN:VCALENDAR
VERSION:2.0
PRODID:-//wp-events-plugin.com//7.2.3.1//EN
TZID:America/Detroit
X-WR-TIMEZONE:America/Detroit
BEGIN:VEVENT
UID:70343@annarborwithkids.com
DTSTART;TZID=America/Detroit:20230328T130000
DTEND;TZID=America/Detroit:20230330T140000
DTSTAMP:20230308T215656Z
URL:https://annarborwithkids.com/event-recurring/family-hike/
SUMMARY:Family Hike
DESCRIPTION:\nCelebrate Spring Break with a one hour guided hike at Kensing
 ton Metropark.\n\n\n\nJoin family and friends to explore the woods and tra
 ils. Search for signs of animals waking up from a winter's nap and new flo
 wers appearing on plants and trees. Look for animal tracks\, search for ta
 dpoles in the pond\, and look for birds that have returned from their wint
 er migration.\n\n\n\nNote: planned trails are unpaved - wear appropriate s
 hoes.\n\n\n\nMeet at Nature Center. Register by 4p the day before the prog
 ram.\n
CATEGORIES:Advance Registration,Animals,Arbor Annie's
 Highlights,Elementary,Middle Schoolers,Outdoor,Parents,Preschoolers,Spring
 Fun
LOCATION:Kensington Metropark\, 4570 Huron River Parkway\, Milford\, Michig
 an\, 48381\, Beyond Washtenaw\, United States
GEO:42.528995;-83.637566
X-APPLE-STRUCTURED-LOCATION;VALUE=URI;X-ADDRESS=4570 Huron River Parkway\, 
 Milford\, Michigan\, 48381\, Beyond Washtenaw\, United States;X-APPLE-RADI
 US=100;X-TITLE=Kensington Metropark:geo:42.528995,-83.637566
END:VEVENT
BEGIN:VTIMEZONE
TZID:America/Detroit
X-LIC-LOCATION:America/Detroit
BEGIN:DAYLIGHT
DTSTART:20230312T030000
TZOFFSETFROM:-0500
TZOFFSETTO:-0400
TZNAME:EDT
END:DAYLIGHT
END:VTIMEZONE
END:VCALENDAR