BEGIN:VCALENDAR
VERSION:2.0
PRODID:-//wp-events-plugin.com//7.2.3.1//EN
TZID:America/Detroit
X-WR-TIMEZONE:America/Detroit
BEGIN:VEVENT
UID:93070@annarborwithkids.com
DTSTART;TZID=America/Detroit:20260403T110000
DTEND;TZID=America/Detroit:20260403T120000
DTSTAMP:20260323T181255Z
URL:https://annarborwithkids.com/events/family-hike-3/
SUMMARY:Family Hike
DESCRIPTION:\nDiscover the wonders of nature with family and friends this s
 pring break at Hudson Mills Metropark! Embark on a memorable adventure thr
 ough scenic trails as we offer insights into local plants\, animals\, and 
 ecosystems. Unplug\, unwind\, and connect with family\, friends\, and the 
 beauty of the natural world on this enriching and educational journey.\n\n
 \n\nWhat to Expect:This program is entirely outdoors. Expect to walk about
  1 mile. The planned path surface of the is dirt and gravel\, frequently r
 olling or slightly hilly\, not suitable for adaptive walking equipment. No
  prior experience is necessary. Group discussion will be encouraged.\n\n\n
 \nAges: Fun for all ages! Children must be accompanied by a registered adu
 lt.Cost: $3 per child\, $5 per adult\, children under 2 Free!Location: Hud
 son Mills Metropark\, River Grove Picnic Shelter\n\n\n\nPre-registration i
 s required by 4 p.m. the day before the program.\n\n\n\n\n
CATEGORIES:Advance Registration,Arbor Annie's Highlights,Elementary,High
 Schoolers,Hikes/Walks,Middle
 Schoolers,Nature,Outdoor,Parents,Preschoolers,Registration
 Required,Toddler
LOCATION:Hudson Mills Metropark\, 8801 N. Territorial Rd\, Dexter\, Michiga
 n\, 48130\, Dexter\, United States
GEO:42.3866538;-83.9086605
X-APPLE-STRUCTURED-LOCATION;VALUE=URI;X-ADDRESS=8801 N. Territorial Rd\, De
 xter\, Michigan\, 48130\, Dexter\, United States;X-APPLE-RADIUS=100;X-TITL
 E=Hudson Mills Metropark:geo:42.3866538,-83.9086605
END:VEVENT
BEGIN:VTIMEZONE
TZID:America/Detroit
X-LIC-LOCATION:America/Detroit
BEGIN:DAYLIGHT
DTSTART:20260308T030000
TZOFFSETFROM:-0500
TZOFFSETTO:-0400
TZNAME:EDT
END:DAYLIGHT
END:VTIMEZONE
END:VCALENDAR