BEGIN:VCALENDAR
VERSION:2.0
PRODID:-//wp-events-plugin.com//7.2.3.1//EN
TZID:America/Detroit
X-WR-TIMEZONE:America/Detroit
BEGIN:VEVENT
UID:78179@annarborwithkids.com
DTSTART;TZID=America/Detroit:20260614T110000
DTEND;TZID=America/Detroit:20260614T110000
DTSTAMP:20260312T211610Z
URL:https://annarborwithkids.com/events/family-friendly-film-series-spider
 -man-into-the-spider-verse/
SUMMARY:Family-Friendly Film Series - Luca
DESCRIPTION:\nThe Michigan Theater's&nbsp\;Family-Friendly Film Series&nbsp
 \;are typically shown&nbsp\;on Sundays at 11a or 1:30p at the Michigan The
 ater. This year admission is free for all instead of just kids.\n\n\n\nThi
 s month they are showing the animated Luca. This is your chance to see it 
 on the big screen since it was released on Disney+ during the pandemic.\n\
 n\n\n\n\nUpcoming Schedule:\n\n\n\n[events_list tag="Toyota Family Friendl
 y"][/events_list]\n\n\n\n\n
CATEGORIES:Arbor Annie's Highlights,Elementary,Free,High Schoolers,Indoor
 Activities,Middle Schoolers,Movies,Parents,Pop Culture
LOCATION:Michigan Theater\, 603 E. Liberty St\, Ann Arbor\, MI\, 48104\, Do
 wntown\, United States
GEO:42.279704;-83.742019
X-APPLE-STRUCTURED-LOCATION;VALUE=URI;X-ADDRESS=603 E. Liberty St\, Ann Arb
 or\, MI\, 48104\, Downtown\, United States;X-APPLE-RADIUS=100;X-TITLE=Mich
 igan Theater:geo:42.279704,-83.742019
END:VEVENT
BEGIN:VTIMEZONE
TZID:America/Detroit
X-LIC-LOCATION:America/Detroit
BEGIN:DAYLIGHT
DTSTART:20260308T030000
TZOFFSETFROM:-0500
TZOFFSETTO:-0400
TZNAME:EDT
END:DAYLIGHT
END:VTIMEZONE
END:VCALENDAR