BEGIN:VCALENDAR
VERSION:2.0
PRODID:-//wp-events-plugin.com//7.2.3.1//EN
TZID:America/Detroit
X-WR-TIMEZONE:America/Detroit
BEGIN:VEVENT
UID:74967@annarborwithkids.com
DTSTART;TZID=America/Detroit:20241018T160000
DTEND;TZID=America/Detroit:20241018T180000
DTSTAMP:20240911T215559Z
URL:https://annarborwithkids.com/events/family-fridays-spooky-paintings/
SUMMARY:Family Fridays: Spooky Paintings
DESCRIPTION:\nJoin us for another fun Friday evening as we paint a super-sp
 ooky Halloween scene! Your instructor will guide you step-by-step\, using 
 basic painting techniques\, to create this fun and stylized masterpiece on
  a canvas.\n\n\n\nAll children must be at least 8 years or older and accom
 panied by an adult. This activity is open to both families and individuals
 - all are welcome!\n\n\n\nPlease wear old clothes and dress for a mess.\n\
 n\n\nAdults that are not making a project do not need to register but may 
 accompany their child.\n\n\n\nThe event is for ages 8+\n\n\n\nOther Upcomi
 ng Family Friday Events\n\n\n\n[events_list tag="a2ac family fridays" ][/e
 vents_list]\n\n\n\n\n
CATEGORIES:Advance Registration,Arbor Annie's
 Highlights,Art,Crafts,Elementary,Halloween,High Schoolers,Middle
 Schoolers,Parents,Preschoolers
LOCATION:Ann Arbor Art Center\, 117 W. Liberty St\, Ann Arbor\, Michigan\, 
 48104\, Downtown\, United States
GEO:42.279384;-83.74955
X-APPLE-STRUCTURED-LOCATION;VALUE=URI;X-ADDRESS=117 W. Liberty St\, Ann Arb
 or\, Michigan\, 48104\, Downtown\, United States;X-APPLE-RADIUS=100;X-TITL
 E=Ann Arbor Art Center:geo:42.279384,-83.74955
END:VEVENT
BEGIN:VTIMEZONE
TZID:America/Detroit
X-LIC-LOCATION:America/Detroit
BEGIN:DAYLIGHT
DTSTART:20240310T030000
TZOFFSETFROM:-0500
TZOFFSETTO:-0400
TZNAME:EDT
END:DAYLIGHT
END:VTIMEZONE
END:VCALENDAR