BEGIN:VCALENDAR
VERSION:2.0
PRODID:-//wp-events-plugin.com//7.2.3.1//EN
TZID:America/Detroit
X-WR-TIMEZONE:America/Detroit
BEGIN:VEVENT
UID:77151@annarborwithkids.com
DTSTART;TZID=America/Detroit:20260327T160000
DTEND;TZID=America/Detroit:20260327T180000
DTSTAMP:20260324T175431Z
URL:https://annarborwithkids.com/events/family-fridays-polymer-clay-fish-b
 owls/
SUMMARY:Family Fridays: Clay Landscapes
DESCRIPTION:\nExplore crafting a sculpture from clay in this exciting new w
 orkshop. Led by instructor Sarah Ward\, participants will be guided throug
 h the process of creating a decorative landscape\, unique to their whimsy!
  This workshop is perfect for both beginners and continuing learners. Each
  student will make one sculptural landscape\, perfect for your desk\, mant
 le\, or curio cabinet. Some things to note: This workshop is suitable for 
 all skill levels. Classrooms may feature bright overhead lighting and soft
  music may be played during class. This class involves handbuilding techni
 ques only. Clay can be messy\, so come prepared! Aprons are available for 
 use. \n\n\n\nThis class is for ages 8+.\n\n\n\nDress for a mess!\n\n\n
CATEGORIES:Advance Registration,Arbor Annie's
 Highlights,Crafts,Elementary,High Schoolers,Indoor Activities,Middle
 Schoolers,Parents,Preschoolers,Registration Required,Sold Out
LOCATION:Ann Arbor Art Center\, 117 W. Liberty St\, Ann Arbor\, Michigan\, 
 48104\, Downtown\, United States
GEO:42.279384;-83.74955
X-APPLE-STRUCTURED-LOCATION;VALUE=URI;X-ADDRESS=117 W. Liberty St\, Ann Arb
 or\, Michigan\, 48104\, Downtown\, United States;X-APPLE-RADIUS=100;X-TITL
 E=Ann Arbor Art Center:geo:42.279384,-83.74955
END:VEVENT
BEGIN:VTIMEZONE
TZID:America/Detroit
X-LIC-LOCATION:America/Detroit
BEGIN:DAYLIGHT
DTSTART:20260308T030000
TZOFFSETFROM:-0500
TZOFFSETTO:-0400
TZNAME:EDT
END:DAYLIGHT
END:VTIMEZONE
END:VCALENDAR