BEGIN:VCALENDAR
VERSION:2.0
PRODID:-//wp-events-plugin.com//7.2.3.1//EN
TZID:America/Detroit
X-WR-TIMEZONE:America/Detroit
BEGIN:VEVENT
UID:91208@annarborwithkids.com
DTSTART;TZID=America/Detroit:20260515T163000
DTEND;TZID=America/Detroit:20260515T180000
DTSTAMP:20260324T174657Z
URL:https://annarborwithkids.com/events/family-fridays-mini-pottery/
SUMMARY:Family Fridays: Mini Pottery
DESCRIPTION:\nJoin instructor Deanne Neiburger in designing your very own m
 iniature pottery set! Learn the methods of slab cutting and sculpting to b
 uild a mini tea set\, planters\, trinket dishes\, or something else entire
 ly! Each participant will make one set of 6 to 8 ceramic pieces and the pi
 eces will be glazed in the color of your choice.\n\n\n\nAges 7 and up are 
 welcome\, but all children must be accompanied by an adult. Both families 
 and individual participants are welcome!\n\n\n\nDress for a mess!\n\n\n\n\
 n
CATEGORIES:Advance Registration,Arbor Annie's
 Highlights,Crafts,Elementary,High Schoolers,Indoor Activities,Middle
 Schoolers,Parents,Preschoolers,Registration Required,Sold Out
LOCATION:Ann Arbor Art Center\, 117 W. Liberty St\, Ann Arbor\, Michigan\, 
 48104\, Downtown\, United States
GEO:42.279384;-83.74955
X-APPLE-STRUCTURED-LOCATION;VALUE=URI;X-ADDRESS=117 W. Liberty St\, Ann Arb
 or\, Michigan\, 48104\, Downtown\, United States;X-APPLE-RADIUS=100;X-TITL
 E=Ann Arbor Art Center:geo:42.279384,-83.74955
END:VEVENT
BEGIN:VTIMEZONE
TZID:America/Detroit
X-LIC-LOCATION:America/Detroit
BEGIN:DAYLIGHT
DTSTART:20260308T030000
TZOFFSETFROM:-0500
TZOFFSETTO:-0400
TZNAME:EDT
END:DAYLIGHT
END:VTIMEZONE
END:VCALENDAR