BEGIN:VCALENDAR
VERSION:2.0
PRODID:-//wp-events-plugin.com//7.2.3.1//EN
TZID:America/Detroit
X-WR-TIMEZONE:America/Detroit
BEGIN:VEVENT
UID:93341@annarborwithkids.com
DTSTART;TZID=America/Detroit:20260508T163000
DTEND;TZID=America/Detroit:20260508T183000
DTSTAMP:20260324T181309Z
URL:https://annarborwithkids.com/events/family-friday-8bit-botanicals/
SUMMARY:Family Friday: 8bit Botanicals
DESCRIPTION:\nLooking to unwind with some nostalgic\, meditative crafting? 
 Join instructor Chloe Robberts for a relaxing session where you'll create 
 charming spring-themed 8bit creations\, using colorful fuse beads. Channel
  retro video game vibes as you design and assemble your own custom wall ha
 nging—perfect for decorating your space or gifting to a friend. No exper
 ience needed\, just come ready to get cozy and creative! Each participant 
 will leave with one completed wall hanging.\n\n\n\nThe workshop is for kid
 s ages 6+. Children must be accompanied by an adult. An adult who is just 
 helping their child does not need to register.\n\n\n\n\n
CATEGORIES:Advance Registration,Arbor Annie's
 Highlights,Art,Crafts,Elementary,High Schoolers,Indoor Activities,Middle
 Schoolers,Parents,Registration Required
LOCATION:Ann Arbor Art Center\, 117 W. Liberty St\, Ann Arbor\, Michigan\, 
 48104\, Downtown\, United States
GEO:42.279384;-83.74955
X-APPLE-STRUCTURED-LOCATION;VALUE=URI;X-ADDRESS=117 W. Liberty St\, Ann Arb
 or\, Michigan\, 48104\, Downtown\, United States;X-APPLE-RADIUS=100;X-TITL
 E=Ann Arbor Art Center:geo:42.279384,-83.74955
END:VEVENT
BEGIN:VTIMEZONE
TZID:America/Detroit
X-LIC-LOCATION:America/Detroit
BEGIN:DAYLIGHT
DTSTART:20260308T030000
TZOFFSETFROM:-0500
TZOFFSETTO:-0400
TZNAME:EDT
END:DAYLIGHT
END:VTIMEZONE
END:VCALENDAR