BEGIN:VCALENDAR
VERSION:2.0
PRODID:-//wp-events-plugin.com//7.2.3.1//EN
TZID:America/Detroit
X-WR-TIMEZONE:America/Detroit
BEGIN:VEVENT
UID:77320@annarborwithkids.com
DTSTART;TZID=America/Detroit:20261114T143000
DTEND;TZID=America/Detroit:20261114T163000
DTSTAMP:20260310T193338Z
URL:https://annarborwithkids.com/events/family-folk-dance/
SUMMARY:Family Folk Dance
DESCRIPTION:\nDancers of all ages* are invited to the Family Folk Dance\, a
 n event for kids and grown ups!\n\n\n\n\nLearn folk dances from North Amer
 ica and around the world\n\n\n\nDance\, listen\, and clap along to extraor
 dinary live music\n\n\n\nGet your wiggles out\n\n\n\nKid-oriented easy (an
 d fun) dances\n\n\n\nSnacks provided\n\n\n\n\nNo experience necessary. Wea
 r comfortable clothes and shoes you can move around in.\n\n\n\n\n\n\n\n\n
 “Meet the instruments” – a chance to learn more about the instrument
 s that make the music we dance to!\n\n\n\nIntergenerational dance – Kids
  must be accompanied by a grown up\n\n\n\nDancers without kids are also mo
 st welcome – be ready to embrace the chaos!\n\n\n\n\n\nAll ages – real
 ly! Kids who aren’t walking can be carried (slings and baby carriers rec
 ommended) and anyone of any age can enjoy the music and lively atmosphere.
  Grown ups\, plan to dance – kids may prefer to have a grown up join the
 m on the dance floor!\n\n\n\n\nMore info on their website. Sign up for the
 ir email list to receive a reminder about this event.\n\n\n\nLive Music by
  Susie Lorand\, Josh Burdick\, and Donna Baird.\n\n\n\nDances led by Drake
  Meadow\n
ATTACH;FMTTYPE=image/jpeg:https://annarborwithkids.com/wp-content/uploads/
 Family-Folk-Dance-1-2.png
CATEGORIES:Age Range,Arbor Annie's Highlights,Babies,Dance,Elementary,High
 Schoolers,Middle Schoolers,Music/Concerts,Parents,Preschoolers,Toddler
LOCATION:Pittsfield Union Grange\, 3337 Ann Arbor Saline Rd\, Ann Arbor\, M
 ichigan\, 48103\, Pittsfield\, United States
GEO:42.238517;-83.771593
X-APPLE-STRUCTURED-LOCATION;VALUE=URI;X-ADDRESS=3337 Ann Arbor Saline Rd\, 
 Ann Arbor\, Michigan\, 48103\, Pittsfield\, United States;X-APPLE-RADIUS=1
 00;X-TITLE=Pittsfield Union Grange:geo:42.238517,-83.771593
END:VEVENT
BEGIN:VTIMEZONE
TZID:America/Detroit
X-LIC-LOCATION:America/Detroit
BEGIN:STANDARD
DTSTART:20261101T010000
TZOFFSETFROM:-0400
TZOFFSETTO:-0500
TZNAME:EST
END:STANDARD
END:VTIMEZONE
END:VCALENDAR