BEGIN:VCALENDAR
VERSION:2.0
PRODID:-//wp-events-plugin.com//7.2.3.1//EN
TZID:America/Detroit
X-WR-TIMEZONE:America/Detroit
BEGIN:VEVENT
UID:76403@annarborwithkids.com
DTSTART;TZID=America/Detroit:20240120T110000
DTEND;TZID=America/Detroit:20240120T160000
DTSTAMP:20240112T054556Z
URL:https://annarborwithkids.com/events/family-day-movement-under-the-micr
 oscope/
SUMMARY:Family Day: Movement Under the Microscope
DESCRIPTION:\nJoin UM Museum of Natural History for a Family Day as they ex
 plore movement under the microscope\n\n\n\nThere are 30 trillion cells in 
 the human body - more than stars in the Milky Way galaxy - and they are al
 ways moving.\n\n\n\nYou can meet UM Scientists to learn about their resear
 ch. Try moving like a cell does. Learn what trains have to do with cellula
 r locomtion. Find out what makes up a protein. You can get crafty with ori
 gami. Watch a screening of "Movement Under the Microscope" a cell-ebratory
  performance featuring UM students.\n\n\n\n\n\n\n\nPast Family Days were g
 eared towards kids ages 5-12 with their adult caregivers.\n\n\n\n[wpv-view
  name="event-linked-activity"]\n
CATEGORIES:Arbor Annie's Highlights,Elementary,Food,Free,Indoor
 Activities,Middle Schoolers,Parents,Preschoolers,STEM
LOCATION:University of Michigan Museum of Natural History\, 1105 North Univ
 ersity Avenue\, Ann Arbor\, Michigan\, 48109\, University of Michigan\, Un
 ited States
GEO:42.2782584;-83.73462870000003
X-APPLE-STRUCTURED-LOCATION;VALUE=URI;X-ADDRESS=1105 North University Avenu
 e\, Ann Arbor\, Michigan\, 48109\, University of Michigan\, United States;
 X-APPLE-RADIUS=100;X-TITLE=University of Michigan Museum of Natural Histor
 y:geo:42.2782584,-83.73462870000003
END:VEVENT
BEGIN:VTIMEZONE
TZID:America/Detroit
X-LIC-LOCATION:America/Detroit
BEGIN:STANDARD
DTSTART:20231105T010000
TZOFFSETFROM:-0400
TZOFFSETTO:-0500
TZNAME:EST
END:STANDARD
END:VTIMEZONE
END:VCALENDAR