BEGIN:VCALENDAR
VERSION:2.0
PRODID:-//wp-events-plugin.com//7.2.3.1//EN
TZID:America/Detroit
X-WR-TIMEZONE:America/Detroit
BEGIN:VEVENT
UID:93345@annarborwithkids.com
DTSTART;TZID=America/Detroit:20260523T120000
DTEND;TZID=America/Detroit:20260523T133000
DTSTAMP:20260324T190027Z
URL:https://annarborwithkids.com/events/family-day-kids-paint-tipsy-ypsi-4
 /
SUMMARY:Family Day: Kid's Paint - Tipsy Ypsi
DESCRIPTION:\nKids ages 5+ are invited to Tipsy Ypsi for a Family Day to pa
 int.\n\n\n\nYou can pick between: \n\n\n\n\nBanana Jam \n\n\n\nChrissi the
  Narwhal\n\n\n\nHey Kitty\n\n\n\nPenguins\n\n\n\n\nParents can stay for fr
 ee to help\, or purchase their own canvas to paint along side their child.
 \n
CATEGORIES:Advance Registration,Arbor Annie's
 Highlights,Art,Crafts,Elementary,Indoor Activities,Middle
 Schoolers,Parents
LOCATION:Tipsy Ypsi Paint & Pour\, 5 S Washington St\, Ypsilanti\, MI - Mic
 higan\, 48197\, MI - Michigan\, United States
GEO:42.240618;-83.61441
X-APPLE-STRUCTURED-LOCATION;VALUE=URI;X-ADDRESS=5 S Washington St\, Ypsilan
 ti\, MI - Michigan\, 48197\, MI - Michigan\, United States;X-APPLE-RADIUS=
 100;X-TITLE=Tipsy Ypsi Paint & Pour:geo:42.240618,-83.61441
END:VEVENT
BEGIN:VTIMEZONE
TZID:America/Detroit
X-LIC-LOCATION:America/Detroit
BEGIN:DAYLIGHT
DTSTART:20260308T030000
TZOFFSETFROM:-0500
TZOFFSETTO:-0400
TZNAME:EDT
END:DAYLIGHT
END:VTIMEZONE
END:VCALENDAR