BEGIN:VCALENDAR
VERSION:2.0
PRODID:-//wp-events-plugin.com//7.2.3.1//EN
TZID:America/Detroit
X-WR-TIMEZONE:America/Detroit
BEGIN:VEVENT
UID:89102@annarborwithkids.com
DTSTART;TZID=America/Detroit:20260425T103000
DTEND;TZID=America/Detroit:20260425T123000
DTSTAMP:20260323T205612Z
URL:https://annarborwithkids.com/events/family-birding-introduction-and-wa
 lk/
SUMMARY:Family Birding Introduction and Walk
DESCRIPTION:\nJoin YDL for a brief introduction to birding and take a short
  walk to the Water Street Trail. It's a great place to spot lots of birds.
  Then we’ll come back to the library and make a birdhouse. \n\n\n\nBring
  binoculars if you can. Washtenaw Bird &amp\; Nature Alliance will host an
 d bring binoculars for anyone who needs them\n\n\n\nFor all ages.\n\n\n\n\
 n
CATEGORIES:Animals,Arbor Annie's Highlights,Elementary,Free,High
 Schoolers,Middle Schoolers,Nature,Outdoor,Parents,Preschoolers
LOCATION:Ypsilanti District Library - Michigan Ave Branch\, 229 West Michig
 an Avenue\, Ypsilanti\, Michigan\, 48197\, Ypsilanti\, United States
GEO:42.240746;-83.61565
X-APPLE-STRUCTURED-LOCATION;VALUE=URI;X-ADDRESS=229 West Michigan Avenue\, 
 Ypsilanti\, Michigan\, 48197\, Ypsilanti\, United States;X-APPLE-RADIUS=10
 0;X-TITLE=Ypsilanti District Library - Michigan Ave Branch:geo:42.240746,-
 83.61565
END:VEVENT
BEGIN:VTIMEZONE
TZID:America/Detroit
X-LIC-LOCATION:America/Detroit
BEGIN:DAYLIGHT
DTSTART:20260308T030000
TZOFFSETFROM:-0500
TZOFFSETTO:-0400
TZNAME:EDT
END:DAYLIGHT
END:VTIMEZONE
END:VCALENDAR