BEGIN:VCALENDAR
VERSION:2.0
PRODID:-//wp-events-plugin.com//7.2.3.1//EN
TZID:America/Detroit
X-WR-TIMEZONE:America/Detroit
BEGIN:VEVENT
UID:70789@annarborwithkids.com
DTSTART;TZID=America/Detroit:20260401T140000
DTEND;TZID=America/Detroit:20260401T150000
DTSTAMP:20260311T161345Z
URL:https://annarborwithkids.com/events/family-bird-walk/
SUMMARY:Family Bird Walk
DESCRIPTION:\nBirding is a hobby enjoyed in almost any outdoor space\, year
  round\, and at any age! \n\n\n\nJoin Naturalist Kelsey Dehring\, with Was
 htenaw County Parks and Rec\, to learn how to get started on your birding 
 journey. Ppractice using binoculars\, field guides\, and how to identify b
 irds. \n\n\n\nPlease dress for the weather as this program will include an
  outdoor hike on the Library grounds. \n\n\n\nBinoculars will be available
 \, but feel free to bring your own.\n\n\n\nAges 4 - 12 with an adult careg
 iver. Registration required.\n\n\n\n\n\n\n\n\n
CATEGORIES:Advance Registration,Animals,Arbor Annie's
 Highlights,Elementary,Free,Indoor
 Activities,Outdoor,Parents,Preschoolers,Registration Required
LOCATION:Saline District Library\, 555 N. Maple Rd\, Saline\, Michigan\, 48
 176\, Saline\, United States
GEO:42.17779;-83.775429
X-APPLE-STRUCTURED-LOCATION;VALUE=URI;X-ADDRESS=555 N. Maple Rd\, Saline\, 
 Michigan\, 48176\, Saline\, United States;X-APPLE-RADIUS=100;X-TITLE=Salin
 e District Library:geo:42.17779,-83.775429
END:VEVENT
BEGIN:VTIMEZONE
TZID:America/Detroit
X-LIC-LOCATION:America/Detroit
BEGIN:DAYLIGHT
DTSTART:20260308T030000
TZOFFSETFROM:-0500
TZOFFSETTO:-0400
TZNAME:EDT
END:DAYLIGHT
END:VTIMEZONE
END:VCALENDAR