BEGIN:VCALENDAR
VERSION:2.0
PRODID:-//wp-events-plugin.com//7.2.3.1//EN
TZID:America/Detroit
X-WR-TIMEZONE:America/Detroit
BEGIN:VEVENT
UID:60318@annarborwithkids.com
DTSTART;TZID=America/Detroit:20251025T110000
DTEND;TZID=America/Detroit:20251025T140000
DTSTAMP:20251023T200825Z
URL:https://annarborwithkids.com/events/fall-fundraiser-10th-anniversary-b
 ash/
SUMMARY:Halloween Party
DESCRIPTION:\nDate Correction\n10/23: Our apologies. We initially had the e
 vent listed for Sunday\, but have corrected it to Saturday.\n\n\n\n\nStarr
 y Skies Equine Rescue holds their annual Halloween Party the Saturday befo
 re Halloween\n\n\n\nThere will be pumpkin painting\, apple cider\, caramel
  apple bar and donut holes\, and of couse horses.\n\n\n\nFree to attend\, 
 donations appreciated ($20/family suggested)\, costumes optional (but fun!
 )\n\n\n\n\n\n\n
CATEGORIES:Animals,Arbor Annie's Highlights,Charitable
 Event,Elementary,Fall Fun,Free,Halloween,High Schoolers,Middle
 Schoolers,Parents,Preschoolers,Trick or Treat
LOCATION:Starry Skies Equine Rescue & Sanctuary\, 8133 W. Liberty Rd\, Ann 
 Arbor\, Michigan\, 48103\, West\, United States
GEO:42.264832;-83.88500099999999
X-APPLE-STRUCTURED-LOCATION;VALUE=URI;X-ADDRESS=8133 W. Liberty Rd\, Ann Ar
 bor\, Michigan\, 48103\, West\, United States;X-APPLE-RADIUS=100;X-TITLE=S
 tarry Skies Equine Rescue & Sanctuary:geo:42.264832,-83.88500099999999
END:VEVENT
BEGIN:VTIMEZONE
TZID:America/Detroit
X-LIC-LOCATION:America/Detroit
BEGIN:DAYLIGHT
DTSTART:20250309T030000
TZOFFSETFROM:-0500
TZOFFSETTO:-0400
TZNAME:EDT
END:DAYLIGHT
END:VTIMEZONE
END:VCALENDAR