BEGIN:VCALENDAR
VERSION:2.0
PRODID:-//wp-events-plugin.com//7.2.3.1//EN
TZID:America/Detroit
X-WR-TIMEZONE:America/Detroit
BEGIN:VEVENT
UID:67221@annarborwithkids.com
DTSTART;TZID=America/Detroit:20251025T120000
DTEND;TZID=America/Detroit:20251025T150000
DTSTAMP:20251009T192219Z
URL:https://annarborwithkids.com/events/fall-fun-festival/
SUMMARY:Fall Fun Festival
DESCRIPTION:\nScio Community Church is holding a Fall Fun Festival with Gam
 es\, Food\, &amp\; Fun\n\n\n\nActivities include:\n\n\n\n\nHay Ride\n\n\n\
 nPumpkin Painting\n\n\n\nFace painting\n\n\n\nCornhole\n\n\n\nPopcorn &amp
 \; refreshments\n\n\n\n\n\n
CATEGORIES:Arbor Annie's Highlights,Elementary,Fall
 Fun,Food,Free,Halloween,Middle
 Schoolers,Outdoor,Parents,Preschoolers,Toddler
LOCATION:Scio Community Church\, 1293 N Zeeb Rd\, Ann Arbor\, Michigan\, 48
 103\, West Ann Arbor\, United States
GEO:42.302594;-83.840259
X-APPLE-STRUCTURED-LOCATION;VALUE=URI;X-ADDRESS=1293 N Zeeb Rd\, Ann Arbor\
 , Michigan\, 48103\, West Ann Arbor\, United States;X-APPLE-RADIUS=100;X-T
 ITLE=Scio Community Church:geo:42.302594,-83.840259
END:VEVENT
BEGIN:VTIMEZONE
TZID:America/Detroit
X-LIC-LOCATION:America/Detroit
BEGIN:DAYLIGHT
DTSTART:20250309T030000
TZOFFSETFROM:-0500
TZOFFSETTO:-0400
TZNAME:EDT
END:DAYLIGHT
END:VTIMEZONE
END:VCALENDAR