BEGIN:VCALENDAR
VERSION:2.0
PRODID:-//wp-events-plugin.com//7.2.3.1//EN
TZID:America/Detroit
X-WR-TIMEZONE:America/Detroit
BEGIN:VEVENT
UID:22715@annarborwithkids.com
DTSTART;TZID=America/Detroit:20251018T100000
DTEND;TZID=America/Detroit:20251018T170000
DTSTAMP:20250910T210338Z
URL:https://annarborwithkids.com/events/fall-festival-2/
SUMMARY:Fall Fest
DESCRIPTION:\nThe Petting Farm at Domino Farms is having a Fall Fest on Oct
 ober 18-19.\n\n\n\nActivities during Fall Festival:\n\n\n\n\n10a-5p - Craf
 ter's Market (Fall Fest Admission not required)\n\n\n\n11a-4p - Free Hayri
 des on the hour\n\n\n\nnoon-3p - Pony Rides (children only)\n\n\n\nCrazy C
 raig Juggling Variety Show (Saturday only)\n\n\n\nBounce Houses\n\n\n\nCra
 fts\n\n\n\nCostume Contest\n\n\n\nFood Trucks\n\nGrand Traverse Pie\n\n\n\
 nThe Iron\n\n\n\nBuoy's Coffee\n\n\n\n\n\n\n\n\nPricing\n\n\n\nFall Fest a
 dmission is:\n\n\n\n\n$12 General Admission\n\n\n\n$8/Seniors (60+)\n\n\n\
 nFree/Infants &amp\; Toddlers 23 months &amp\; younger\n\n\n\nMembers will
  receive a discount.\n\n\n\nAdd-ons - Animal Feed - $3/bag\n\n\n\n\n\n\n\n
CATEGORIES:Animals,Arbor Annie's
 Highlights,Craft/Vendor,Crafts,Elementary,Fall Fun,Food,Halloween,Middle
 Schoolers,Preschoolers,Seasonal,Shopping,Toddler
LOCATION:The Petting Farm at Domino's Farms\, 3001 Earhart\, Ann Arbor\, MI
 \, 48106\, United States
GEO:42.323377;-83.680252
X-APPLE-STRUCTURED-LOCATION;VALUE=URI;X-ADDRESS=3001 Earhart\, Ann Arbor\, 
 MI\, 48106\, United States;X-APPLE-RADIUS=100;X-TITLE=The Petting Farm at 
 Domino's Farms:geo:42.323377,-83.680252
END:VEVENT
BEGIN:VTIMEZONE
TZID:America/Detroit
X-LIC-LOCATION:America/Detroit
BEGIN:DAYLIGHT
DTSTART:20250309T030000
TZOFFSETFROM:-0500
TZOFFSETTO:-0400
TZNAME:EDT
END:DAYLIGHT
END:VTIMEZONE
END:VCALENDAR