BEGIN:VCALENDAR
VERSION:2.0
PRODID:-//wp-events-plugin.com//7.2.3.1//EN
TZID:America/Detroit
X-WR-TIMEZONE:America/Detroit
BEGIN:VEVENT
UID:82517@annarborwithkids.com
DTSTART;TZID=America/Detroit:20241027T150000
DTEND;TZID=America/Detroit:20241027T170000
DTSTAMP:20241016T222954Z
URL:https://annarborwithkids.com/events/fall-fest-3/
SUMMARY:Fall Fest
DESCRIPTION:\nThe Astor is holding a Fall Fest! Celebrate fall with activit
 ies\, costumes\, food\, &amp\; family fun.\n\n\n\nThe event is geared to f
 amilies with kids 7 &amp\; under. The event is FREE\, but please register 
 here: bit.ly/astorfallfest\n\n\n\n\n\n\n\n\n
CATEGORIES:Advance Registration,Arbor Annie's Highlights,Elementary,Fall
 Fun,Free,Halloween,Preschoolers,Toddler
LOCATION:Astor Academy\, 128 Van Buren St\, Chelsea\, Michigan\, 48118\, Un
 ited States
GEO:42.313722;-84.018982
X-APPLE-STRUCTURED-LOCATION;VALUE=URI;X-ADDRESS=128 Van Buren St\, Chelsea\
 , Michigan\, 48118\, United States;X-APPLE-RADIUS=100;X-TITLE=Astor Academ
 y:geo:42.313722,-84.018982
END:VEVENT
BEGIN:VTIMEZONE
TZID:America/Detroit
X-LIC-LOCATION:America/Detroit
BEGIN:DAYLIGHT
DTSTART:20240310T030000
TZOFFSETFROM:-0500
TZOFFSETTO:-0400
TZNAME:EDT
END:DAYLIGHT
END:VTIMEZONE
END:VCALENDAR