BEGIN:VCALENDAR
VERSION:2.0
PRODID:-//wp-events-plugin.com//7.2.3.1//EN
TZID:America/Detroit
X-WR-TIMEZONE:America/Detroit
BEGIN:VEVENT
UID:84338@annarborwithkids.com
DTSTART;TZID=America/Detroit:20260328T140000
DTEND;TZID=America/Detroit:20260328T160000
DTSTAMP:20260219T185932Z
URL:https://annarborwithkids.com/events/fabric-yarn-and-notions-swap/
SUMMARY:Fabric\, Yarn\, and Notions Swap
DESCRIPTION:\nIf you have excess yarn\, fabric\, or sewing notions\, or are
  looking for something "just sew\," this fiber-art specific swap is for yo
 u!\n\n\n\nItems will be accepted at all library branches until March 20th.
  You do not need to bring materials in order to pick up new supplies!\n\n\
 n\nFor teens-adults. Held in Lower Level Program Room.\n
CATEGORIES:Arbor Annie's Highlights,Crafts,Elementary,Fiber Arts,Free,High
 Schoolers,Indoor Activities,Middle Schoolers,Parents
LOCATION:Downtown Branch of AADL\, 343 South Fifth Avenue\, Ann Arbor\, Mic
 higan\, 48104\, Downtown\, United States
GEO:42.278198;-83.745971
X-APPLE-STRUCTURED-LOCATION;VALUE=URI;X-ADDRESS=343 South Fifth Avenue\, An
 n Arbor\, Michigan\, 48104\, Downtown\, United States;X-APPLE-RADIUS=100;X
 -TITLE=Downtown Branch of AADL:geo:42.278198,-83.745971
END:VEVENT
BEGIN:VTIMEZONE
TZID:America/Detroit
X-LIC-LOCATION:America/Detroit
BEGIN:DAYLIGHT
DTSTART:20260308T030000
TZOFFSETFROM:-0500
TZOFFSETTO:-0400
TZNAME:EDT
END:DAYLIGHT
END:VTIMEZONE
END:VCALENDAR