BEGIN:VCALENDAR
VERSION:2.0
PRODID:-//wp-events-plugin.com//7.2.3.1//EN
TZID:America/Detroit
X-WR-TIMEZONE:America/Detroit
BEGIN:VEVENT
UID:93603@annarborwithkids.com
DTSTART;TZID=America/Detroit:20260516T100000
DTEND;TZID=America/Detroit:20260516T160000
DTSTAMP:20260424T185457Z
URL:https://annarborwithkids.com/events/faadl-fall-bag-sale/
SUMMARY:FAADL Fall Bag Sale
DESCRIPTION:\nJoin the Friends of the Ann Arbor District Library at for a b
 ag sale! They'll provide the bags\, you stuff them as full as you can with
  books\, puzzles\, and CDs for $5 per bag.\n\n\n\n\n\n\n\n\n
CATEGORIES:Arbor Annie's Highlights,Elementary,High Schoolers,Indoor
 Activities,Middle Schoolers,Parents,Shopping
LOCATION:Parkland Plaza AADL Warehouse\, 265 Parkland Plaza\, Ann Arbor\, M
 ichigan\, 48103\, United States
GEO:42.280746;-83.810752
X-APPLE-STRUCTURED-LOCATION;VALUE=URI;X-ADDRESS=265 Parkland Plaza\, Ann Ar
 bor\, Michigan\, 48103\, United States;X-APPLE-RADIUS=100;X-TITLE=Parkland
  Plaza AADL Warehouse:geo:42.280746,-83.810752
END:VEVENT
BEGIN:VTIMEZONE
TZID:America/Detroit
X-LIC-LOCATION:America/Detroit
BEGIN:DAYLIGHT
DTSTART:20260308T030000
TZOFFSETFROM:-0500
TZOFFSETTO:-0400
TZNAME:EDT
END:DAYLIGHT
END:VTIMEZONE
END:VCALENDAR