BEGIN:VCALENDAR
VERSION:2.0
PRODID:-//wp-events-plugin.com//7.2.3.1//EN
TZID:America/Detroit
X-WR-TIMEZONE:America/Detroit
BEGIN:VEVENT
UID:92989@annarborwithkids.com
DTSTART;TZID=America/Detroit:20260330T183000
DTEND;TZID=America/Detroit:20260330T193000
DTSTAMP:20260311T155552Z
URL:https://annarborwithkids.com/events/explore-the-art-of-rosa-bonheur/
SUMMARY:Explore the Art of... Rosa Bonheur
DESCRIPTION:\nColor your world by exploring the art of famous artists and c
 reate your own inspired art. This session will explore the horses of Rosa 
 Bonheur.\n\n\n\nAges 8-12. Registration is required.\n\n\n\n\n
CATEGORIES:Advance Registration,Arbor Annie's
 Highlights,Art,Crafts,Free,Indoor Activities,Registration Required
LOCATION:Saline District Library\, 555 N. Maple Rd\, Saline\, Michigan\, 48
 176\, Saline\, United States
GEO:42.17779;-83.775429
X-APPLE-STRUCTURED-LOCATION;VALUE=URI;X-ADDRESS=555 N. Maple Rd\, Saline\, 
 Michigan\, 48176\, Saline\, United States;X-APPLE-RADIUS=100;X-TITLE=Salin
 e District Library:geo:42.17779,-83.775429
END:VEVENT
BEGIN:VTIMEZONE
TZID:America/Detroit
X-LIC-LOCATION:America/Detroit
BEGIN:DAYLIGHT
DTSTART:20260308T030000
TZOFFSETFROM:-0500
TZOFFSETTO:-0400
TZNAME:EDT
END:DAYLIGHT
END:VTIMEZONE
END:VCALENDAR