BEGIN:VCALENDAR
VERSION:2.0
PRODID:-//wp-events-plugin.com//7.2.3.1//EN
TZID:America/Detroit
X-WR-TIMEZONE:America/Detroit
BEGIN:VEVENT
UID:92536@annarborwithkids.com
DTSTART;TZID=America/Detroit:20260313T183000
DTEND;TZID=America/Detroit:20260313T210000
DTSTAMP:20260216T221155Z
URL:https://annarborwithkids.com/events/euchre-friday-at-homes-2026-03-13/
SUMMARY:Euchre Friday at HOMES
DESCRIPTION:\nHOMES Campus is partnering with Michigan's largest and longes
 t-running Euchre tournament: Euchre Change a Life! 😃♥️♣️♦️
 ♠️\n\n\n\nJoin them every Friday night January through March at HOMES 
 Campus to play Michigan's favorite card game!\n\n\n\n100% of proceeds bene
 fit a classroom of sponsored elementary school kids in Seguin\, Haiti. To 
 date\, Euchre Change a Life! has raised over $50\,000 just from euchre pla
 yers like you to sponsor over 100 kids in Haiti! 🙌\n\n\n\nTHE DETAILS:
 ♠️ All ages welcome!❤️ Bring a partner or come solo and be paired 
 with one!♣️ Play five 20-minute games with prizes for top finishers.
 ♦️ Season-long prizes awarded for most wins and for best attendance! 
 😃♠️ $15 per player\, or $10 for HOMES members\; cash or card.❤️
  No pre-registration required! Just show up before 6:30 to play.♣️ Bri
 ng quarters! If you get euchred\, tournament tradition encourages you to d
 rop one in the euchre jar. Every penny raised benefits the kids in Haiti.
 ♦️ Food by Campo Pizza available for purchase. Beverages available for
  purchase by HOMES (non-beer and non-alcoholic options available)\n\n\n\nF
 acebook: https://www.facebook.com/events/1835367057094119Instagram: https:
 //www.instagram.com/p/DTAzezpDDsa\n
CATEGORIES:Arbor Annie's Highlights,Charitable Event,Elementary,Games,High
 Schoolers,Indoor Activities,Middle Schoolers,Parents
LOCATION:HOMES Campus\, 112 Jackson Plaza\, Ann Arbor\, Michigan\, 48103\, 
 United States
GEO:42.283187;-83.802831
X-APPLE-STRUCTURED-LOCATION;VALUE=URI;X-ADDRESS=112 Jackson Plaza\, Ann Arb
 or\, Michigan\, 48103\, United States;X-APPLE-RADIUS=100;X-TITLE=HOMES Cam
 pus:geo:42.283187,-83.802831
END:VEVENT
BEGIN:VTIMEZONE
TZID:America/Detroit
X-LIC-LOCATION:America/Detroit
BEGIN:DAYLIGHT
DTSTART:20260308T030000
TZOFFSETFROM:-0500
TZOFFSETTO:-0400
TZNAME:EDT
END:DAYLIGHT
END:VTIMEZONE
END:VCALENDAR