BEGIN:VCALENDAR
VERSION:2.0
PRODID:-//wp-events-plugin.com//7.2.3.1//EN
TZID:America/Detroit
X-WR-TIMEZONE:America/Detroit
BEGIN:VEVENT
UID:76796@annarborwithkids.com
DTSTART;TZID=America/Detroit:20260424T183000
DTEND;TZID=America/Detroit:20260424T210000
DTSTAMP:20260416T203224Z
URL:https://annarborwithkids.com/events/euchre-change-a-life/
SUMMARY:The EUCHRE BOWL - Celebrating their 100th Charity Tournament!
DESCRIPTION:\n🎉 The EUCHRE BOWL – 100th Tournament Celebration! 🎉\n
 \n\n\nThey’re aiming for 100 players to celebrate 100 charity tournament
 s – help them break their all-time attendance record! \n\n\n\nExpect a n
 ight packed with:✨ Silent auctions🎁 Special giveaways &amp\; surprise
 s🍰 And\, of course… CAKE!\n\n\n\nAdvance sign-up is now OPEN! 😃♥
 ️♣️♦️♠️👉 Click the "Tickets" link at the Facebook event: 
 https://www.facebook.com/events/874863468906685OR sign up using the direct
  link here: https://forms.gle/mfCLqUo7g1f8jsmh7\n\n\n\n💛 100% of procee
 ds benefit a classroom of sponsored elementary school kids in Seguin\, Hai
 ti.Thanks to euchre players like you\, over the last 8 years they've raise
 d over $50\,000+ to sponsor 100+ kids in Haiti! 🙌\n\n\n\nTournament Det
 ails:♠️ All ages &amp\; skill levels welcome❤️ Bring a partner or 
 come solo – they'll pair you up♣️ Five 20-minute games with prizes f
 or top finishers!♦️ Season-long prizes for best records &amp\; most ga
 mes played♠️ $20/player ($10 with online sign-up by 4/22)❤️ Bring 
 quarters! Get euchred? Drop one in the euchre jar – all funds go to Hait
 i♣️ Rules posted in the event discussion 🙂♦️ Bring a snack to s
 hare! 😋🎁Bonus: Bring a new friend and receive a EUCHRE MUG and extra
  punch on your Euchre Rewards Card!➡️5 Punches = FREE Play and MUG! 
 😊☕️\n\n\n\nOur AWESOME Sponsors:🏦 Michigan Legacy Credit Union
 ❤️ 242 Community Center Ann Arbor🏠 HOMES Campus☕️ DOZER Coffee
 🍒 Cherry Republic of Ann Arbor\n
CATEGORIES:Advance Registration,Charitable Event,Elementary,Games,High
 Schoolers,Middle Schoolers,Optional Registration,Parents
LOCATION:2|42 Community Church\, 648 S Wagner Rd\, Ann Arbor\, MI\, 48103\,
  United States
GEO:42.2759264;-83.8017744
X-APPLE-STRUCTURED-LOCATION;VALUE=URI;X-ADDRESS=648 S Wagner Rd\, Ann Arbor
 \, MI\, 48103\, United States;X-APPLE-RADIUS=100;X-TITLE=2|42 Community Ch
 urch:geo:42.2759264,-83.8017744
END:VEVENT
BEGIN:VTIMEZONE
TZID:America/Detroit
X-LIC-LOCATION:America/Detroit
BEGIN:DAYLIGHT
DTSTART:20260308T030000
TZOFFSETFROM:-0500
TZOFFSETTO:-0400
TZNAME:EDT
END:DAYLIGHT
END:VTIMEZONE
END:VCALENDAR