BEGIN:VCALENDAR
VERSION:2.0
PRODID:-//wp-events-plugin.com//7.2.3.1//EN
TZID:America/Detroit
X-WR-TIMEZONE:America/Detroit
BEGIN:VEVENT
UID:92991@annarborwithkids.com
DTSTART;TZID=America/Detroit:20260401T100000
DTEND;TZID=America/Detroit:20260401T104500
DTSTAMP:20260311T161113Z
URL:https://annarborwithkids.com/events/enjoy-the-process-art-exploration-
 for-toddlers/
SUMMARY:Enjoy the Process: Art Exploration for Toddlers
DESCRIPTION:\nToddlers come to experience\, engage and explore stations of 
 art. This program that focuses on process instead of outcome with be going
  outside the lines.\n\n\n\nDress for a mess!\n\n\n\nAges 2-5. Registration
  is required.\n\n\n\n\n\n\n\n\n
CATEGORIES:Advance Registration,Arbor Annie's
 Highlights,Crafts,Free,Indoor Activities,Preschoolers,Registration
 Required,Toddler
LOCATION:Saline District Library\, 555 N. Maple Rd\, Saline\, Michigan\, 48
 176\, Saline\, United States
GEO:42.17779;-83.775429
X-APPLE-STRUCTURED-LOCATION;VALUE=URI;X-ADDRESS=555 N. Maple Rd\, Saline\, 
 Michigan\, 48176\, Saline\, United States;X-APPLE-RADIUS=100;X-TITLE=Salin
 e District Library:geo:42.17779,-83.775429
END:VEVENT
BEGIN:VTIMEZONE
TZID:America/Detroit
X-LIC-LOCATION:America/Detroit
BEGIN:DAYLIGHT
DTSTART:20260308T030000
TZOFFSETFROM:-0500
TZOFFSETTO:-0400
TZNAME:EDT
END:DAYLIGHT
END:VTIMEZONE
END:VCALENDAR