BEGIN:VCALENDAR
VERSION:2.0
PRODID:-//wp-events-plugin.com//7.2.3.1//EN
TZID:America/Detroit
X-WR-TIMEZONE:America/Detroit
BEGIN:VEVENT
UID:62977@annarborwithkids.com
DTSTART;TZID=America/Detroit:20260614T213000
DTEND;TZID=America/Detroit:20260614T235900
DTSTAMP:20260325T201502Z
URL:https://annarborwithkids.com/events/encanto-top-of-the-park-movie/
SUMMARY:Hamilton - Top of the Park Movie
DESCRIPTION:\nThe 2026 Movies by Moonlight at Top of the Park kicks off wit
 h Hamilton - perfect for the USA's 250th birthday.\n\n\n\nHamilton is rate
 d PG-13. The movie is 2hr 59 minutes. Better be prepared for the kids to s
 tay up late! If they (or you) don't make it all the way through the movie\
 , it is available on Disney+.\n\n\n\n(Note we have listed the end time as 
 11:59p - our calendar system doesn't work well with events that run past m
 idnight)\n\n\n\n\n\n\n\n\n
CATEGORIES:Arbor Annie's Highlights,Elementary,Free,High
 Schoolers,History,Middle Schoolers,Movies,Parents
LOCATION:Top of the Park\, 915 E. Washington St\, Ann Arbor\, Michigan\, 48
 109\, University of Michigan\, United States
GEO:42.2807892;-83.73815560000003
X-APPLE-STRUCTURED-LOCATION;VALUE=URI;X-ADDRESS=915 E. Washington St\, Ann 
 Arbor\, Michigan\, 48109\, University of Michigan\, United States;X-APPLE-
 RADIUS=100;X-TITLE=Top of the Park:geo:42.2807892,-83.73815560000003
END:VEVENT
BEGIN:VTIMEZONE
TZID:America/Detroit
X-LIC-LOCATION:America/Detroit
BEGIN:DAYLIGHT
DTSTART:20260308T030000
TZOFFSETFROM:-0500
TZOFFSETTO:-0400
TZNAME:EDT
END:DAYLIGHT
END:VTIMEZONE
END:VCALENDAR