BEGIN:VCALENDAR
VERSION:2.0
PRODID:-//wp-events-plugin.com//7.2.3.1//EN
TZID:America/Detroit
X-WR-TIMEZONE:America/Detroit
BEGIN:VEVENT
UID:83872@annarborwithkids.com
DTSTART;TZID=America/Detroit:20260422T180000
DTEND;TZID=America/Detroit:20260422T193000
DTSTAMP:20260323T205408Z
URL:https://annarborwithkids.com/events/embracing-your-crown-hair-care-and
 -consent/
SUMMARY:Embracing Your Crown - Routines\, Products\, and Hair Concerns
DESCRIPTION:\nIn this session of the Embracing Your Crown series\, YDL will
  explore hair care routines and hair products that will address different 
 seasonal or ongoing hair concerns you may have. Licensed cosmetologist Jaz
 meen Fortune will use conversation and play to explore skills you can use 
 to care for your hair and show products that can properly address your con
 cerns.\n\n\n\nThis series focuses on bringing awareness\, encouraging cele
 bration\, and acknowledging the power that lies within the crown.\n\n\n\nL
 ight refreshments will be provided.\n\n\n\nFor ages 10+. Register in advan
 ce.\n\n\n
CATEGORIES:Advance Registration,Arbor Annie's
 Highlights,BIPOC,Elementary,Food,Free,High Schoolers,Indoor
 Activities,Middle Schoolers,Parents,Personal Care
LOCATION:Ypsilanti District Library - Michigan Ave Branch\, 229 West Michig
 an Avenue\, Ypsilanti\, Michigan\, 48197\, Ypsilanti\, United States
GEO:42.240746;-83.61565
X-APPLE-STRUCTURED-LOCATION;VALUE=URI;X-ADDRESS=229 West Michigan Avenue\, 
 Ypsilanti\, Michigan\, 48197\, Ypsilanti\, United States;X-APPLE-RADIUS=10
 0;X-TITLE=Ypsilanti District Library - Michigan Ave Branch:geo:42.240746,-
 83.61565
END:VEVENT
BEGIN:VTIMEZONE
TZID:America/Detroit
X-LIC-LOCATION:America/Detroit
BEGIN:DAYLIGHT
DTSTART:20260308T030000
TZOFFSETFROM:-0500
TZOFFSETTO:-0400
TZNAME:EDT
END:DAYLIGHT
END:VTIMEZONE
END:VCALENDAR