BEGIN:VCALENDAR
VERSION:2.0
PRODID:-//wp-events-plugin.com//7.2.3.1//EN
TZID:America/Detroit
X-WR-TIMEZONE:America/Detroit
BEGIN:VEVENT
UID:62990@annarborwithkids.com
DTSTART;TZID=America/Detroit:20250914T090000
DTEND;TZID=America/Detroit:20250914T090000
DTSTAMP:20250904T205939Z
URL:https://annarborwithkids.com/events/eles-place-ann-arbor-healing-heart
 s-family-5k-walk-run/
SUMMARY:Ele's Place Ann Arbor Healing Hearts Family 5K Walk/Run
DESCRIPTION:\nThe 5th Annual Ele's Place Ann Arbor Healing Hearts Family 5K
  Walk/Run is on Sunday\, September 14. The event helps raise awareness of 
 and support for grieving children\, teens and their families in the Ann Ar
 bor community andsurrounding southeast MI area.\n\n\n\nEle’s Place Ann A
 rbor families and the community are invited to participate in this family-
 friendly event tohonor\, celebrate and remember a special person who has d
 ied. This event is an opportunity to put “one foot infront of the other
 ” to help fund their peer grief support programs and ensure they remain 
 FREE OF CHARGEto all who are in need of their services TODAY\, TOMORROW AN
 D ALWAYS.\n\n\n\nRaces offered (prices based on registration before April 
 30):\n\n\n\n\n10:40a - Kids Dash (ages 3-6) - Free\n\n\n\n11a - Kids Mile 
 (ages 7-17) - $20\n\n\n\n11a - Ann Arbor Healing Hearts Family Walk/Run - 
 $40\n\n\n\n\n\n
CATEGORIES:Advance Registration,Arbor Annie's Highlights,Charitable
 Event,Elementary,Fitness/Health,High Schoolers,Middle
 Schoolers,Outdoor,Parents,Preschoolers,Race,Volunteer Opportunity
LOCATION:Thomson Reuters Office Complex\, 6300 Interfirst Drive\, Ann Arbor
 \, Michigan\, 48108\, Pittsfield\, United States
GEO:42.1957259;-83.72678350000001
X-APPLE-STRUCTURED-LOCATION;VALUE=URI;X-ADDRESS=6300 Interfirst Drive\, Ann
  Arbor\, Michigan\, 48108\, Pittsfield\, United States;X-APPLE-RADIUS=100;
 X-TITLE=Thomson Reuters Office Complex:geo:42.1957259,-83.72678350000001
END:VEVENT
BEGIN:VTIMEZONE
TZID:America/Detroit
X-LIC-LOCATION:America/Detroit
BEGIN:DAYLIGHT
DTSTART:20250309T030000
TZOFFSETFROM:-0500
TZOFFSETTO:-0400
TZNAME:EDT
END:DAYLIGHT
END:VTIMEZONE
END:VCALENDAR