BEGIN:VCALENDAR
VERSION:2.0
PRODID:-//wp-events-plugin.com//7.2.3.1//EN
TZID:America/Detroit
X-WR-TIMEZONE:America/Detroit
BEGIN:VEVENT
UID:93458@annarborwithkids.com
DTSTART;TZID=America/Detroit:20260329T180000
DTEND;TZID=America/Detroit:20260329T193000
DTSTAMP:20260401T212552Z
URL:https://annarborwithkids.com/events/electric-forest-prep-party/
SUMMARY:Electric Forest Prep Party!
DESCRIPTION:\nGet ready to feel the forest magic! Join The Burrow and the A
 corn for a family-friendly pre-festival crafting party at Yours Truly Even
 t Venue to get hyped for Electric Forest. Whether you are a seasoned festi
 val-goer or bringing your little ones to experience the plur vibes for the
  first time\, this is the perfect evening to create\, connect\, and dance.
 \n\n\n\n DJ Nixtremity will be spinning an energetic\, festival-inspired s
 et to get everyone in the groove.\n\n\n\nDIY Rave Sprouts: They will have 
 a station loaded with unique trinkets so you can design and build your ver
 y own custom rave sprouts to clip on your hats\, hair\, or hydration packs
 !\n\n\n\nKandi Making &amp\; Exchange: Dive into their bead selection to m
 ake your own Kandi bracelets. Trade with new friends and practice your PLU
 R handshakes!\n\n\n\nSnacks &amp\; Sips: Enjoy fresh popcorn and delicious
 \, colorful mocktails while you craft and dance.\n\n\n\nCome craft your he
 art out\, listen to some great music\, and celebrate the upcoming festival
  season with our local community. Space is limited\, so grab your tickets 
 and let's get ready for the forest!\n\n\n
CATEGORIES:Advance Registration,Arbor Annie's
 Highlights,Crafts,Elementary,High Schoolers,Indoor Activities,Middle
 Schoolers,Music/Concerts,Parents,Registration Required
LOCATION:Yours Truly Event Venue\, 114 W Michigan Avenue\, Ypsilanti\, Mich
 igan\, 48197\, Ypsilanti\, United States
GEO:42.2412741;-83.61378589999998
X-APPLE-STRUCTURED-LOCATION;VALUE=URI;X-ADDRESS=114 W Michigan Avenue\, Yps
 ilanti\, Michigan\, 48197\, Ypsilanti\, United States;X-APPLE-RADIUS=100;X
 -TITLE=Yours Truly Event Venue:geo:42.2412741,-83.61378589999998
END:VEVENT
BEGIN:VTIMEZONE
TZID:America/Detroit
X-LIC-LOCATION:America/Detroit
BEGIN:DAYLIGHT
DTSTART:20260308T030000
TZOFFSETFROM:-0500
TZOFFSETTO:-0400
TZNAME:EDT
END:DAYLIGHT
END:VTIMEZONE
END:VCALENDAR