BEGIN:VCALENDAR
VERSION:2.0
PRODID:-//wp-events-plugin.com//7.2.3.1//EN
TZID:America/Detroit
X-WR-TIMEZONE:America/Detroit
BEGIN:VEVENT
UID:28092@annarborwithkids.com
DTSTART;TZID=America/Detroit:20190428T133000
DTEND;TZID=America/Detroit:20190428T153000
DTSTAMP:20200727T015023Z
URL:https://annarborwithkids.com/events/el-dia-de-los-ninos-y-libros-cultu
 ral-celebration-2/
SUMMARY:El Dia de Los Ninos y Libros Cultural Celebration
DESCRIPTION:Each year\, AADL partners with the awesome Ypsilanti District L
 ibrary for this national celebration of children and books\, connecting ki
 ds to the world of learning. This year the fun takes place at the Whittake
 r Branch of the Ypsilanti District Library! Join us for colorful crafts\, 
 dancing\, snacks and more! ¡¡Vámanos!! For more information\, call the 
 Ypsilanti District Library at (734) 482-4110.\nFor preschool-adult
CATEGORIES:Arbor Annie's Highlights,Babies,Cultural
 Celebration,Elementary,Free,High Schoolers,Indoor Activities,Middle
 Schoolers,Music/Concerts,Parents,Preschoolers,Storytime,Toddler
LOCATION:Ypsilanti District Library - Whittaker Rd\, 5577 Whittaker Rd\, Yp
 silanti\, Michigan\, 48197\, Ypsilanti\, United States
GEO:42.208097;-83.61557
X-APPLE-STRUCTURED-LOCATION;VALUE=URI;X-ADDRESS=5577 Whittaker Rd\, Ypsilan
 ti\, Michigan\, 48197\, Ypsilanti\, United States;X-APPLE-RADIUS=100;X-TIT
 LE=Ypsilanti District Library - Whittaker Rd:geo:42.208097,-83.61557
END:VEVENT
BEGIN:VTIMEZONE
TZID:America/Detroit
X-LIC-LOCATION:America/Detroit
BEGIN:DAYLIGHT
DTSTART:20190310T030000
TZOFFSETFROM:-0500
TZOFFSETTO:-0400
TZNAME:EDT
END:DAYLIGHT
END:VTIMEZONE
END:VCALENDAR