BEGIN:VCALENDAR
VERSION:2.0
PRODID:-//wp-events-plugin.com//7.2.3.1//EN
TZID:America/Detroit
X-WR-TIMEZONE:America/Detroit
BEGIN:VEVENT
UID:92873@annarborwithkids.com
DTSTART;TZID=America/Detroit:20260403T110000
DTEND;TZID=America/Detroit:20260403T120000
DTSTAMP:20260309T204735Z
URL:https://annarborwithkids.com/events/egg-carton-herb-garden-2/
SUMMARY:Egg Carton Herb Garden
DESCRIPTION:\nWould you like to grow your own herbs? Start small with this 
 herb garden starter kit. Plant seeds and decorate and make plant markers. 
 When your seedlings start to outgrow the egg cartons\, you can easily tran
 splant them to a pot or outside space.\n\n\n\nFor grades K-Adult. Held in 
 Secret Library.\n\n\n\n\n
CATEGORIES:Arbor Annie's Highlights,Crafts,Elementary,Free,Gardening,High
 Schoolers,Indoor Activities,Middle Schoolers,Parents
LOCATION:Downtown Branch of AADL\, 343 South Fifth Avenue\, Ann Arbor\, Mic
 higan\, 48104\, Downtown\, United States
GEO:42.278198;-83.745971
X-APPLE-STRUCTURED-LOCATION;VALUE=URI;X-ADDRESS=343 South Fifth Avenue\, An
 n Arbor\, Michigan\, 48104\, Downtown\, United States;X-APPLE-RADIUS=100;X
 -TITLE=Downtown Branch of AADL:geo:42.278198,-83.745971
END:VEVENT
BEGIN:VTIMEZONE
TZID:America/Detroit
X-LIC-LOCATION:America/Detroit
BEGIN:DAYLIGHT
DTSTART:20260308T030000
TZOFFSETFROM:-0500
TZOFFSETTO:-0400
TZNAME:EDT
END:DAYLIGHT
END:VTIMEZONE
END:VCALENDAR