BEGIN:VCALENDAR
VERSION:2.0
PRODID:-//wp-events-plugin.com//7.2.3.1//EN
TZID:America/Detroit
X-WR-TIMEZONE:America/Detroit
BEGIN:VEVENT
UID:74756@annarborwithkids.com
DTSTART;TZID=America/Detroit:20251026T130000
DTEND;TZID=America/Detroit:20251026T160000
DTSTAMP:20250915T220152Z
URL:https://annarborwithkids.com/events/eeeeerie-trunk-or-treat/
SUMMARY:Eeeeerie Trunk-or-Treat
DESCRIPTION:\nA spooktacular event is happening at Lake Eeeeerie Metropark.
  \n\n\n\nJoin them for an afternoon of fall fun\, complete with trunk-or-t
 reating\, costume contest for different youth age groups\, hayrides\, craf
 ts\, and games. Take a break from all the fun with a donut and cup of cide
 r too!\n\n\n\nFun for all ages! Children must be accompanied by an adult.\
 n\n\n\nThey have space for 200 trick or treaters total. Register children 
 who are 16 and under as “treaters” so they have an accurate count for 
 candy. During registration you will be asked how many other people will be
  attending with a treater so they also have a number for cider and doughnu
 ts for everyone in attendance!\n\n\n\nThe event will be in the Wave Pool p
 arking lot and Blue Heron Shelter\n\n\n\nChildren who plan to trunk or tre
 at must register to attend by 4p 3 days prior to the event.\n\n\n\n\n\n\n\
 n\n\n\n
CATEGORIES:Advance Registration,Arbor Annie's
 Highlights,Crafts,Elementary,Food,Free,Halloween,High Schoolers,Middle
 Schoolers,Outdoor,Preschoolers,Registration Required,Toddler,Trick or
 Treat
LOCATION:Lake Erie Metropark\, 32481 West Jefferson Avenue\, Brownstown\, M
 ichigan\, 48173\, United States
GEO:42.070504;-83.210829
X-APPLE-STRUCTURED-LOCATION;VALUE=URI;X-ADDRESS=32481 West Jefferson Avenue
 \, Brownstown\, Michigan\, 48173\, United States;X-APPLE-RADIUS=100;X-TITL
 E=Lake Erie Metropark:geo:42.070504,-83.210829
END:VEVENT
BEGIN:VTIMEZONE
TZID:America/Detroit
X-LIC-LOCATION:America/Detroit
BEGIN:DAYLIGHT
DTSTART:20250309T030000
TZOFFSETFROM:-0500
TZOFFSETTO:-0400
TZNAME:EDT
END:DAYLIGHT
END:VTIMEZONE
END:VCALENDAR