BEGIN:VCALENDAR
VERSION:2.0
PRODID:-//wp-events-plugin.com//7.2.3.1//EN
TZID:America/Detroit
X-WR-TIMEZONE:America/Detroit
BEGIN:VEVENT
UID:85635@annarborwithkids.com
DTSTART;TZID=America/Detroit:20260503T140000
DTEND;TZID=America/Detroit:20260503T160000
DTSTAMP:20260409T181358Z
URL:https://annarborwithkids.com/events/edible-and-medicinal-plant-walk/
SUMMARY:Spring Flora Ramble
DESCRIPTION:\nAnything that is “up or out” will be fair game for discus
 sion on this easy-going ramble geared for beginners and nature enthusiasts
 . Join Naturalist Robert Ayotte for a tour of Discovery Center Trails and 
 the boardwalk at the Cedar Lake poor fen. We’ll see tuliptree\, leatherw
 ood\, wild geranium\, swamp buttercup\, bog laurel\, starflower\, buckbean
 \, and cuckoo flower in bloom\, among others. We’ll start at the Discove
 ry Center and walk about 2.5 miles on flat to gently rolling trails. Wear 
 appropriate footwear if it's wet. Bring your loupe (handlens). Robert is P
 resident of the Michigan Botanical Society and has been a field technician
  for Michigan Natural Features Inventory and the USDA Forest\n\n\n\nCost: 
 $2/person or $5/family.  limited to 15 participants.  \n\n\n\nPlease reg
 ister for this program by emailing waterloonha@gmail.com with your name\, 
 phone number and number of people attending. *\n
CATEGORIES:Advance Registration,Arbor Annie's Highlights,High
 Schoolers,Hikes/Walks,Middle Schoolers,Nature,Parents,Registration
 Required,Spring Fun
LOCATION:Eddy Discovery Center\, 17030 Bush Rd\, Chelsea\, Michigan\, 48118
 \, Chelsea\, United States
GEO:42.3298572;-84.08067299999999
X-APPLE-STRUCTURED-LOCATION;VALUE=URI;X-ADDRESS=17030 Bush Rd\, Chelsea\, M
 ichigan\, 48118\, Chelsea\, United States;X-APPLE-RADIUS=100;X-TITLE=Eddy 
 Discovery Center:geo:42.3298572,-84.08067299999999
END:VEVENT
BEGIN:VTIMEZONE
TZID:America/Detroit
X-LIC-LOCATION:America/Detroit
BEGIN:DAYLIGHT
DTSTART:20260308T030000
TZOFFSETFROM:-0500
TZOFFSETTO:-0400
TZNAME:EDT
END:DAYLIGHT
END:VTIMEZONE
END:VCALENDAR