BEGIN:VCALENDAR
VERSION:2.0
PRODID:-//wp-events-plugin.com//7.2.3.1//EN
TZID:America/Detroit
X-WR-TIMEZONE:America/Detroit
BEGIN:VEVENT
UID:93508@annarborwithkids.com
DTSTART;TZID=America/Detroit:20260418T100000
DTEND;TZID=America/Detroit:20260418T160000
DTSTAMP:20260410T031000Z
URL:https://annarborwithkids.com/events/eddy-discovery-center-grand-reopen
 ing/
SUMMARY:Eddy Discovery Center Grand Reopening
DESCRIPTION:\nThe Michigan Department of Natural Resources is thrilled to w
 elcome visitors back to the Gerald E. Eddy Discovery Center at Waterloo St
 ate Recreation Area Saturday\, April 18 and Sunday\, April 19.\n\n\n\nCome
  in to see the new and improved Discovery Center and enjoy some family-fri
 endly activities which will include a ribbon cutting ceremony at 1p on Sat
 urday and live animal programs on Sunday afternoon at 1 &amp\; 2:30 p spon
 sored by the Waterloo Natural History Association. \n\n\n\nThey will also 
 be celebrating Earth Day with special earth and nature-themed activities.\
 n\n\n\nThe Eddy Discovery Center has been closed for renovations for about
  a year\, including roof replacement\, atrium renovations\, HVAC installat
 ion\, updated exhibits and carpeting replacement. A proposed $2.1 million 
 in federal relief funding from Gov. Whitmer’s Building Michigan Together
  Plan made these and other renovations possible.\n\n\n\n\n
CATEGORIES:Arbor Annie's Highlights,Earth Day,Elementary,High
 Schoolers,Indoor Activities,Middle Schoolers,Nature,Parents,Preschoolers
LOCATION:Eddy Discovery Center\, 17030 Bush Rd\, Chelsea\, Michigan\, 48118
 \, Chelsea\, United States
GEO:42.3298572;-84.08067299999999
X-APPLE-STRUCTURED-LOCATION;VALUE=URI;X-ADDRESS=17030 Bush Rd\, Chelsea\, M
 ichigan\, 48118\, Chelsea\, United States;X-APPLE-RADIUS=100;X-TITLE=Eddy 
 Discovery Center:geo:42.3298572,-84.08067299999999
END:VEVENT
BEGIN:VTIMEZONE
TZID:America/Detroit
X-LIC-LOCATION:America/Detroit
BEGIN:DAYLIGHT
DTSTART:20260308T030000
TZOFFSETFROM:-0500
TZOFFSETTO:-0400
TZNAME:EDT
END:DAYLIGHT
END:VTIMEZONE
END:VCALENDAR