BEGIN:VCALENDAR
VERSION:2.0
PRODID:-//wp-events-plugin.com//7.2.3.1//EN
TZID:America/Detroit
X-WR-TIMEZONE:America/Detroit
BEGIN:VEVENT
UID:77170@annarborwithkids.com
DTSTART;TZID=America/Detroit:20240408T140000
DTEND;TZID=America/Detroit:20240408T160000
DTSTAMP:20240405T040121Z
URL:https://annarborwithkids.com/events/eclipse-watch-party/
SUMMARY:Eclipse Watch Party
DESCRIPTION:\nNeed an outdoor space to watch the solar eclipse? Come to the
  library. Please bring your own eclipse glasses\; no eclipse glasses will 
 be provided before or during this event.\n\n\n\nI have seen Ann Arbor Hand
 s On Museum and The Little Seedling post that they have glasses for sale. 
 Ann Arbor Public School will also have them for students.\n\n\n\nFor all a
 ges.\n\n\n\n[wpv-view name="posts-by-id-shortcode" ids="53206"]\n
CATEGORIES:Arbor Annie's Highlights,Elementary,Free,High Schoolers,Middle
 Schoolers,Outdoor,Parents,Preschoolers,STEM
LOCATION:Downtown Branch of AADL\, 343 South Fifth Avenue\, Ann Arbor\, Mic
 higan\, 48104\, Downtown\, United States
GEO:42.278198;-83.745971
X-APPLE-STRUCTURED-LOCATION;VALUE=URI;X-ADDRESS=343 South Fifth Avenue\, An
 n Arbor\, Michigan\, 48104\, Downtown\, United States;X-APPLE-RADIUS=100;X
 -TITLE=Downtown Branch of AADL:geo:42.278198,-83.745971
END:VEVENT
BEGIN:VTIMEZONE
TZID:America/Detroit
X-LIC-LOCATION:America/Detroit
BEGIN:DAYLIGHT
DTSTART:20240310T030000
TZOFFSETFROM:-0500
TZOFFSETTO:-0400
TZNAME:EDT
END:DAYLIGHT
END:VTIMEZONE
END:VCALENDAR