BEGIN:VCALENDAR
VERSION:2.0
PRODID:-//wp-events-plugin.com//7.2.3.1//EN
TZID:America/Detroit
X-WR-TIMEZONE:America/Detroit
BEGIN:VEVENT
UID:77177@annarborwithkids.com
DTSTART;TZID=America/Detroit:20240408T143000
DTEND;TZID=America/Detroit:20240408T153000
DTSTAMP:20240405T040058Z
URL:https://annarborwithkids.com/events/eclipse-viewing-party/
SUMMARY:Eclipse Viewing Party
DESCRIPTION:\nGather at YDL-Superior to watch the 2024 Solar Eclipse. Eclip
 se viewing glasses will be available for participants to use during this e
 vent.\n\n\n\nFor all ages.\n\n\n\n[wpv-view name="posts-by-id-shortcode" i
 ds="53206"]\n
CATEGORIES:Arbor Annie's Highlights,Elementary,Free,High Schoolers,Middle
 Schoolers,Outdoor,Parents,Preschoolers,STEM
LOCATION:Ypsilanti District Library - Superior\, 1900 Harris Rd\, Ypsilanti
 \, Michigan\, 48198\, Ypsilanti\, United States
GEO:42.270591;-83.584503
X-APPLE-STRUCTURED-LOCATION;VALUE=URI;X-ADDRESS=1900 Harris Rd\, Ypsilanti\
 , Michigan\, 48198\, Ypsilanti\, United States;X-APPLE-RADIUS=100;X-TITLE=
 Ypsilanti District Library - Superior:geo:42.270591,-83.584503
END:VEVENT
BEGIN:VTIMEZONE
TZID:America/Detroit
X-LIC-LOCATION:America/Detroit
BEGIN:DAYLIGHT
DTSTART:20240310T030000
TZOFFSETFROM:-0500
TZOFFSETTO:-0400
TZNAME:EDT
END:DAYLIGHT
END:VTIMEZONE
END:VCALENDAR